Workbook

Sheet Games Played Current Players
A1: PLAYER | B1: 2007 | H1: 2008 | Q1: 2009 | Z1: 2010 | AI1: 2011 | AS1: 2012 | BC1: 2013 | BN1: 2014 | BY1: 2015 | CK1: 2016 | CV1: 2017 | DH1: 2018 | DT1: 2019 | EF1: 2020 | ES1: 2021 | FD1: 2022 | FR1: 2023 | GD1: 2024 | GP1: 2025 | HD1: 2026 | HP1: TOTAL GAMES
B2: BUNDOORA | C2: YARRA BEND | D2: FREEWAY | E2: WHITTLESEA | F2: GROWLING FROG | G2: TOCUMWAL | H2: YARRAMBAT | I2: DORSET | J2: WHITTLESEA | K2: CRAIGIEBURN | L2: MORACK | M2: GOONAWARRA | N2: IVANHOE | O2: GROWLING FROG | P2: LAUNCESTON | Q2: YARRAMBAT | R2: YARRA BEND | S2: AMSTEL | T2: WHITTLESEA | U2: KINGSTON LINKS | V2: IVANHOE | W2: BUNDOORA | X2: GROWLING FROG | Y2: COBRAM | Z2: WERRIBEE | AA2: YARRA BEND | AB2: WHITTLESEA | AC2: KINGSTON LINKS | AD2: YARRAMBAT | AE2: W'FORD VALLEY | AF2: BUNDOORA | AG2: GROWLING FROG | AH2: EAGLE RIDGE | AI2: YARRAMBAT | AJ2: GOONAWARRA | AK2: GISBORNE | AL2: DEVIL BEND | AM2: WERRIBEE | AN2: SUNSHINE | AO2: YERING MEADOWS | AP2: W'FORD VALLEY | AQ2: GROWLING FROG | AR2: LAUNCESTON | AS2: W'FORD VALLEY | AT2: TIRHATUAN LAKES | AU2: GISBORNE | AV2: SUNSHINE | AW2: YERING MEADOWS | AX2: YARRA BEND | AY2: BUNDOORA | AZ2: GOONAWARRA | BA2: GROWLING FROG | BB2: RICH RIVER (PC) | BC2: MELTON | BD2: KINGSTON LINKS | BE2: PATTERSON RIVER | BF2: YERING MEADOWS | BG2: GOONAWARRA | BH2: YARRAMBAT | BI2: SUNSHINE | BJ2: GISBORNE | BK2: GROWLING FROG | BL2: FLINDERS (PC) | BM2: MOONAH LINKS (PC) | BN2: BUNDOORA | BO2: GROWLING FROG | BP2: HIDDEN VALLEY | BQ2: KINGSTON LINKS | BR2: AMSTEL | BS2: GISBORNE | BT2: SANDRINGHAM | BU2: SUNSHINE | BV2: YARRA BEND | BW2: ROSEBUD (PC) | BX2: CAPE SCHANK (PC) | BY2: GARDINER RUN | BZ2: SANDRINGHAM | CA2: YARRA BEND | CB2: SUNSHINE | CC2: HEIDELBERG | CD2: GROWLING FROG | CE2: KINGSTON LINKS | CF2: MANDALAY | CG2: PATTERSON RIVER | CH2: W'FORD VALLEY | CI2: FLINDERS (PC) | CJ2: THE DUNES (PC) | CK2: GARDINERS RUN | CL2: DEVIL BEND | CM2: GISBORNE | CN2: SANCTUARY LAKES | CO2: SANDHURST | CP2: MORNINGTON | CQ2: SUNSHINE | CR2: GROWLING FROG | CS2: PATTERSON RIVER | CT2: W'FORD VALLEY | CU2: COLONIAL | CV2: BUNDOORA | CW2: W'FORD VALLEY | CX2: KINGSTON LINKS | CY2: SANDRINGHAM | CZ2: GROWLING FROG | DA2: GARDINERS RUN | DB2: YARRAMBAT | DC2: SUNSHINE | DD2: YERING MEADOWS | DE2: SANDHURST | DF2: 13TH BEACH (PC) | DG2: 13TH BEACH (PC) | DH2: YARRA BEND | DI2: BUNDOORA | DJ2: WATERFORD VALLEY | DK2: GISBORNE | DL2: YARRAMBAT | DM2: SANDRINGHAM | DN2: WERRIBEE | DO2: GROWLING FROG | DP2: YERING MEADOWS | DQ2: SANDHURST | DR2: MOONAH LINKS (PC) | DS2: ST ANDREWS (PC) | DT2: GARDINERS RUN | DU2: SANDHURST | DV2: SUNSHINE | DW2: WERRIBEE | DX2: SANDRINGHAM | DY2: RANFURLIE | DZ2: YERING MEADOWS | EA2: GROWLING FROG | EB2: SANDHURST | EC2: BALLARAT | ED2: COBRAM (PC) | EE2: COBRAM (PC) | EF2: YARRA BEND | EG2: SANDHURST | EH2: WATERFORD VALLEY | EI2: GARDINERS RUN | EJ2: CLUB MANDALAY | EK2: GROWLING FROG | EL2: FREEWAY | EM2: BUNDOORA | EN2: EAGLE RIDGE | EO2: MOONAH LINKS OPEN | EP2: THE DUNES | EQ2: BALLARAT (PC) | ER2: CRESWICK (PC) | ES2: YARRA BEND | ET2: GROWLING FROG | EU2: YERING MEADOWS | EV2: HIDDEN VALLEY | EW2: GARDINERS RUN | EX2: SANDRINGHAM | EY2: SUNSHINE | EZ2: GOONAWARRA | FA2: MELTON | FB2: FLINDERS | FC2: MOONAH LINKS | FD2: YERING MEADOWS | FE2: WATERFORD VALLEY | FF2: YARRA BEND | FG2: HIDDEN VALLEY | FH2: WHITTLESEA | FI2: SANDRINGHAM | FJ2: SANDHURST | FK2: SUNSHINE | FL2: GOONAWARRA | FM2: MELTON | FN2: GARDINERS RUN | FO2: GROWLING FROG | FP2: MT COMPASS (PC) | FQ2: LINKS LADY BAY (PC) | FR2: YARRA BEND | FS2: BUNDOORA | FT2: GARDINERS RUN | FU2: RACV HEALESVILLE | FV2: GISBORNE | FW2: SUNSHINE | FX2: DEVIL BEND | FY2: WATERFORD VALLEY | FZ2: YERING MEADOWS | GA2: GROWLING FROG | GB2: LONSDALE LINKS (PC) | GC2: QUEENSCLIFF (PC) | GD2: YARRA BEND | GE2: GISBORNE | GF2: FLINDERS | GG2: YERING MEADOWS | GH2: WATERFORD VALLEY | GI2: SUNSHINE | GJ2: YARRAMBAT | GK2: RACV HEALESVILLE | GL2: GROWLING FROG | GM2: GARDINERS RUN | GN2: TOCUMWAL (PC) | GO2: TOCUMWAL (PC) | GP2: YARRA BEND | GQ2: FREEWAY | GR2: HIDDEN VALLEY | GS2: GROWLING FROG | GT2: GARDINERS RUN | GU2: MANDALAY | GV2: MOUNT DERRIMUT | GW2: YARRAMBAT | GX2: EYNESBURY | GY2: YERING MEADOWS | GZ2: WATERFORD | HA2: ROSEBUD (CHAMPS) | HB2: ROSEBUD (PC) | HC2: EAGLE RIDGE (PC) | HD2: YARRA BEND | HE2: RACV CRESWICK | HF2: FREEWAY | HG2: WATERFORD VALLEY | HH2: YARRAMBAT | HI2: HIDDEN VALLEY | HJ2: YERING MEADOWS | HK2: GROWLING FROG | HL2: CLUB MANDALAY | HM2: GARDINERS RUN | HN2: PACIFIC DUNES | HO2: HORIZONS
A3: DOUG ALLEN | B3: DNP | C3: DNP | D3: DNP | E3: DNP | F3: DNP | G3: DNP | H3: DNP | I3: DNP | J3: DNP | K3: DNP | L3: DNP | M3: DNP | N3: DNP | O3: DNP | P3: DNP | Q3: DNP | R3: DNP | S3: DNP | T3: DNP | U3: DNP | V3: DNP | W3: DNP | X3: DNP | Y3: DNP | Z3: DNP | AA3: DNP | AB3: DNP | AC3: DNP | AD3: DNP | AE3: DNP | AF3: DNP | AG3: DNP | AH3: DNP | AI3: DNP | AJ3: DNP | AK3: DNP | AL3: DNP | AM3: DNP | AN3: DNP | AO3: DNP | AP3: DNP | AQ3: DNP | AR3: DNP | AS3: DNP | AT3: DNP | AU3: DNP | AV3: DNP | AW3: 1 | AX3: DNP | AY3: 1 | AZ3: DNP | BA3: DNP | BB3: DNP | BC3: 1 | BD3: 1 | BE3: 1 | BF3: 1 | BG3: 1 | BH3: DNP | BI3: 1 | BJ3: 1 | BK3: DNP | BL3: 1 | BM3: DNP | BN3: DNP | BO3: DNP | BP3: 1 | BQ3: 1 | BR3: 1 | BS3: DNP | BT3: 1 | BU3: DNP | BV3: DNP | BW3: DNP | BX3: DNP | BY3: DNP | BZ3: DNP | CA3: DNP | CB3: DNP | CC3: 1 | CD3: 1 | CE3: 1 | CF3: 1 | CG3: 1 | CH3: 1 | CI3: 1 | CJ3: 1 | CK3: 1 | CL3: 1 | CM3: 1 | CN3: DNP | CO3: DNP | CP3: DNP | CQ3: DNP | CR3: 1 | CS3: DNP | CT3: 1 | CV3: 1 | CW3: 1 | CX3: 1 | CY3: 1 | CZ3: 1 | DA3: 1 | DB3: 1 | DC3: 1 | DD3: 1 | DE3: 1 | DF3: 1 | DG3: 1 | DH3: 1 | DI3: 1 | DJ3: 1 | DK3: 1 | DL3: 1 | DM3: 1 | DN3: 1 | DO3: DNP | DP3: 1 | DQ3: 1 | DR3: 1 | DS3: 1 | DT3: DNP | DU3: 1 | DV3: 1 | DW3: 1 | DX3: 1 | DY3: DNP | DZ3: DNP | EA3: 1 | EB3: 1 | EC3: 1 | ED3: 1 | EE3: 1 | EF3: 1 | EG3: 1 | EH3: 1 | EI3: 1 | EJ3: 1 | EK3: DNP | EL3: 1 | EM3: 1 | EN3: 1 | EO3: 1 | EP3: 1 | EQ3: 1 | ER3: 1 | ES3: 1 | ET3: 1 | EU3: 1 | EV3: DNP | EW3: DNP | EX3: 1 | EY3: DNP | EZ3: DNP | FA3: DNP | FB3: 1 | FC3: 1 | FD3: 1 | FE3: 1 | FF3: 1 | FG3: DNP | FH3: 1 | FI3: 1 | FJ3: 1 | FK3: DNP | FL3: 1 | FM3: 1 | FN3: 1 | FO3: 1 | FP3: 1 | FQ3: 1 | FR3: 1 | FS3: 1 | FT3: DNP | FU3: 1 | FV3: DNP | FW3: 1 | FX3: 1 | FY3: 1 | FZ3: 1 | GA3: DNP | GB3: 1 | GC3: 1 | GD3: 1 | GE3: DNP | GF3: 1 | GG3: DNP | GH3: 1 | GI3: DNP | GJ3: DNP | GK3: 1 | GL3: DNP | GM3: 1 | GN3: DNP | GO3: DNP | GP3: 1 | GQ3: 1 | GR3: DNP | GS3: DNP | GT3: 1 | GU3: 1 | GV3: 1 | GW3: 1 | GX3: DNP | GY3: DNP | GZ3: 1 | HA3: DNP | HB3: 1 | HC3: 1 | HD3: 1 | HE3: DNP | HF3: 1 | HG3: 1 | HH3: 1 | HI3: 1 | HJ3: 1 | HP3: =SUM(B3:HO3) -> 118
A4: JAMIE BELL | B4: 1 | C4: 1 | D4: 1 | E4: 1 | F4: 1 | G4: 1 | H4: 1 | I4: 1 | J4: 1 | K4: 1 | L4: 1 | M4: 1 | N4: 1 | O4: 1 | P4: 1 | Q4: 1 | R4: 1 | S4: 1 | T4: 1 | U4: 1 | V4: 1 | W4: 1 | X4: 1 | Y4: 1 | Z4: 1 | AA4: 1 | AB4: 1 | AC4: 1 | AD4: 1 | AE4: 1 | AF4: 1 | AG4: 1 | AH4: 1 | AI4: 1 | AJ4: 1 | AK4: 1 | AL4: 1 | AM4: 1 | AN4: 1 | AO4: 1 | AP4: 1 | AQ4: 1 | AR4: 1 | AS4: DNP | AT4: 1 | AU4: DNP | AV4: DNP | AW4: DNP | AX4: DNP | AY4: DNP | AZ4: DNP | BA4: 1 | BB4: 1 | BC4: 1 | BD4: DNP | BE4: DNP | BF4: 1 | BG4: 1 | BH4: DNP | BI4: 1 | BJ4: 1 | BK4: 1 | BL4: 1 | BM4: 1 | BN4: DNP | BO4: 1 | BP4: 1 | BQ4: 1 | BR4: DNP | BS4: 1 | BT4: 1 | BU4: 1 | BV4: 1 | BW4: 1 | BX4: 1 | BY4: 1 | BZ4: 1 | CA4: 1 | CB4: 1 | CC4: 1 | CD4: 1 | CE4: 1 | CF4: 1 | CG4: 1 | CH4: 1 | CI4: 1 | CJ4: 1 | CK4: 1 | CL4: 1 | CM4: 1 | CN4: 1 | CO4: 1 | CP4: 1 | CQ4: 1 | CR4: 1 | CS4: DNP | CT4: 1 | CV4: 1 | CW4: 1 | CX4: 1 | CY4: 1 | CZ4: 1 | DA4: 1 | DB4: 1 | DC4: 1 | DD4: 1 | DE4: 1 | DF4: 1 | DG4: 1 | DH4: 1 | DI4: 1 | DJ4: 1 | DK4: 1 | DL4: 1 | DM4: 1 | DN4: 1 | DO4: 1 | DP4: 1 | DQ4: 1 | DR4: 1 | DS4: 1 | DT4: 1 | DU4: 1 | DV4: 1 | DW4: 1 | DX4: 1 | DY4: 1 | DZ4: 1 | EA4: 1 | EB4: 1 | EC4: 1 | ED4: 1 | EE4: 1 | EF4: 1 | EG4: 1 | EH4: 1 | EI4: 1 | EJ4: 1 | EK4: 1 | EL4: 1 | EM4: 1 | EN4: 1 | EO4: 1 | EP4: 1 | EQ4: 1 | ER4: 1 | ES4: 1 | ET4: 1 | EU4: 1 | EV4: 1 | EW4: DNP | EX4: 1 | EY4: DNP | EZ4: DNP | FA4: DNP | FB4: 1 | FC4: 1 | FD4: 1 | FE4: 1 | FF4: 1 | FG4: 1 | FH4: 1 | FI4: 1 | FJ4: 1 | FK4: 1 | FL4: 1 | FM4: 1 | FN4: 1 | FO4: 1 | FP4: 1 | FQ4: 1 | FR4: 1 | FS4: DNP | FT4: 1 | FU4: 1 | FV4: 1 | FW4: 1 | FX4: 1 | FY4: 1 | FZ4: 1 | GA4: 1 | GB4: 1 | GC4: 1 | GD4: 1 | GE4: 1 | GF4: 1 | GG4: 1 | GH4: 1 | GI4: 1 | GJ4: 1 | GK4: 1 | GL4: 1 | GM4: 1 | GN4: 1 | GO4: 1 | GP4: 1 | GQ4: 1 | GR4: 1 | GS4: 1 | GT4: 1 | GU4: 1 | GV4: 1 | GW4: 1 | GX4: 1 | GY4: DNP | GZ4: 1 | HA4: DNP | HB4: 1 | HC4: 1 | HD4: 1 | HE4: 1 | HF4: 1 | HG4: 1 | HH4: 1 | HI4: 1 | HJ4: 1 | HP4: =SUM(B4:HO4) -> 196
A5: MATTHEW BLAIR | B5: DNP | C5: 1 | D5: 1 | E5: 1 | F5: DNP | G5: 1 | H5: 1 | I5: 1 | J5: 1 | K5: DNP | L5: 1 | M5: 1 | N5: 1 | O5: 1 | P5: 1 | Q5: 1 | R5: 1 | S5: 1 | T5: 1 | U5: 1 | V5: 1 | W5: 1 | X5: 1 | Y5: 1 | Z5: 1 | AA5: 1 | AB5: 1 | AC5: 1 | AD5: 1 | AE5: 1 | AF5: 1 | AG5: DNP | AH5: 1 | AI5: 1 | AJ5: 1 | AK5: 1 | AL5: 1 | AM5: DNP | AN5: 1 | AO5: 1 | AP5: 1 | AQ5: DNP | AR5: DNP | AS5: 1 | AT5: DNP | AU5: 1 | AV5: 1 | AW5: 1 | AX5: 1 | AY5: 1 | AZ5: 1 | BA5: DNP | BB5: DNP | BC5: DNP | BD5: DNP | BE5: DNP | BF5: DNP | BG5: DNP | BH5: DNP | BI5: DNP | BJ5: DNP | BK5: DNP | BL5: DNP | BM5: DNP | BN5: 1 | BO5: 1 | BP5: DNP | BQ5: 1 | BR5: 1 | BS5: DNP | BT5: DNP | BU5: 1 | BV5: 1 | BW5: 1 | BX5: 1 | BY5: DNP | BZ5: 1 | CA5: DNP | CB5: 1 | CC5: DNP | CD5: 1 | CE5: DNP | CF5: 1 | CG5: 1 | CH5: 1 | CI5: 1 | CJ5: 1 | CK5: 1 | CL5: 1 | CM5: 1 | CN5: DNP | CO5: 1 | CP5: DNP | CQ5: 1 | CR5: DNP | CS5: DNP | CT5: DNP | CV5: 1 | CW5: 1 | CX5: 1 | CY5: DNP | CZ5: 1 | DA5: 1 | DB5: 1 | DC5: 1 | DD5: 1 | DE5: 1 | DF5: 1 | DG5: DNP | DH5: 1 | DI5: 1 | DJ5: 1 | DK5: DNP | DL5: DNP | DM5: 1 | DN5: DNP | DO5: DNP | DP5: 1 | DQ5: 1 | DR5: 1 | DS5: 1 | DT5: DNP | DU5: DNP | DV5: DNP | DW5: DNP | DX5: DNP | DY5: DNP | DZ5: DNP | EA5: 1 | EB5: DNP | EC5: DNP | ED5: DNP | EE5: DNP | EF5: 1 | EG5: 1 | EH5: 1 | EI5: 1 | EJ5: 1 | EK5: DNP | EL5: 1 | EM5: 1 | EN5: 1 | EO5: 1 | EP5: 1 | EQ5: DNP | ER5: DNP | ES5: 1 | ET5: DNP | EU5: DNP | EV5: 1 | EW5: DNP | EX5: DNP | EY5: DNP | EZ5: DNP | FA5: DNP | FB5: DNP | FC5: DNP | FD5: DNP | FE5: 1 | FF5: DNP | FG5: 1 | FH5: 1 | FI5: DNP | FJ5: 1 | FK5: 1 | FL5: 1 | FM5: DNP | FN5: 1 | FO5: 1 | FP5: DNP | FQ5: DNP | FR5: 1 | FS5: DNP | FT5: 1 | FU5: 1 | FV5: 1 | FW5: 1 | FX5: DNP | FY5: DNP | FZ5: 1 | GA5: 1 | GB5: 1 | GC5: 1 | GD5: 1 | GE5: 1 | GF5: 1 | GG5: 1 | GH5: DNP | GI5: DNP | GJ5: 1 | GK5: 1 | GL5: 1 | GM5: 1 | GN5: 1 | GO5: 1 | GP5: DNP | GQ5: 1 | GR5: 1 | GS5: DNP | GT5: DNP | GU5: DNP | GV5: DNP | GW5: DNP | GX5: 1 | GY5: 1 | GZ5: 1 | HA5: DNP | HB5: 1 | HC5: DNP | HD5: 1 | HE5: 1 | HF5: 1 | HG5: 1 | HH5: 1 | HI5: 1 | HJ5: 1 | HP5: =SUM(B5:HO5) -> 135
A6: ROB BRUNO | B6: DNP | C6: DNP | D6: DNP | E6: DNP | F6: DNP | G6: DNP | H6: 1 | I6: 1 | J6: 1 | K6: 1 | L6: 1 | M6: 1 | N6: 1 | O6: 1 | P6: 1 | Q6: 1 | R6: 1 | S6: DNP | T6: DNP | U6: 1 | V6: 1 | W6: 1 | X6: 1 | Y6: 1 | Z6: 1 | AA6: DNP | AB6: 1 | AC6: 1 | AD6: 1 | AE6: 1 | AF6: 1 | AG6: 1 | AH6: 1 | AI6: 1 | AJ6: 1 | AK6: 1 | AL6: 1 | AM6: DNP | AN6: DNP | AO6: 1 | AP6: 1 | AQ6: 1 | AR6: 1 | AS6: 1 | AT6: 1 | AU6: DNP | AV6: 1 | AW6: 1 | AX6: 1 | AY6: DNP | AZ6: 1 | BA6: 1 | BB6: 1 | BC6: 1 | BD6: 1 | BE6: 1 | BF6: DNP | BG6: 1 | BH6: DNP | BI6: 1 | BJ6: 1 | BK6: 1 | BL6: 1 | BM6: 1 | BN6: 1 | BO6: 1 | BP6: 1 | BQ6: 1 | BR6: DNP | BS6: DNP | BT6: DNP | BU6: 1 | BV6: 1 | BW6: 1 | BX6: 1 | BY6: DNP | BZ6: 1 | CA6: 1 | CB6: 1 | CC6: 1 | CD6: DNP | CE6: DNP | CF6: DNP | CG6: 1 | CH6: 1 | CI6: 1 | CJ6: 1 | CK6: 1 | CL6: DNP | CM6: 1 | CN6: 1 | CO6: 1 | CP6: DNP | CQ6: 1 | CR6: DNP | CS6: DNP | CT6: 1 | CV6: DNP | CW6: DNP | CX6: DNP | CY6: 1 | CZ6: 1 | DA6: 1 | DB6: DNP | DC6: 1 | DD6: DNP | DE6: 1 | DF6: 1 | DG6: 1 | DH6: 1 | DI6: 1 | DJ6: 1 | DK6: 1 | DL6: 1 | DM6: 1 | DN6: 1 | DO6: 1 | DP6: 1 | DQ6: 1 | DR6: 1 | DS6: 1 | DT6: 1 | DU6: 1 | DV6: 1 | DW6: 1 | DX6: 1 | DY6: 1 | DZ6: 1 | EA6: DNP | EB6: 1 | EC6: 1 | ED6: 1 | EE6: 1 | EF6: 1 | EG6: 1 | EH6: DNP | EI6: 1 | EJ6: 1 | EK6: 1 | EL6: 1 | EM6: 1 | EN6: 1 | EO6: 1 | EP6: 1 | EQ6: DNP | ER6: DNP | ES6: 1 | ET6: DNP | EU6: 1 | EV6: 1 | EW6: DNP | EX6: 1 | EY6: DNP | EZ6: DNP | FA6: DNP | FB6: 1 | FC6: 1 | FD6: 1 | FE6: 1 | FF6: DNP | FG6: 1 | FH6: 1 | FI6: 1 | FJ6: 1 | FK6: 1 | FL6: 1 | FM6: DNP | FN6: 1 | FO6: DNP | FP6: 1 | FQ6: 1 | FR6: 1 | FS6: 1 | FT6: 1 | FU6: 1 | FV6: 1 | FW6: 1 | FX6: DNP | FY6: 1 | FZ6: 1 | GA6: 1 | GB6: 1 | GC6: 1 | GD6: DNP | GE6: 1 | GF6: 1 | GG6: DNP | GH6: 1 | GI6: 1 | GJ6: 1 | GK6: 1 | GL6: 1 | GM6: 1 | GN6: 1 | GO6: 1 | GP6: DNP | GQ6: DNP | GR6: DNP | GS6: 1 | GT6: 1 | GU6: DNP | GV6: 1 | GW6: 1 | GX6: 1 | GY6: 1 | GZ6: 1 | HA6: DNP | HB6: 1 | HC6: 1 | HD6: 1 | HE6: 1 | HF6: 1 | HG6: 1 | HH6: 1 | HI6: 1 | HJ6: DNP | HP6: =SUM(B6:HO6) -> 164
A7: GREG CAMPBELL | B7: DNP | C7: DNP | D7: DNP | E7: DNP | F7: DNP | G7: DNP | H7: DNP | I7: DNP | J7: DNP | K7: DNP | L7: DNP | M7: DNP | N7: DNP | O7: DNP | P7: DNP | Q7: DNP | R7: DNP | S7: DNP | T7: DNP | U7: DNP | V7: DNP | W7: DNP | X7: DNP | Y7: DNP | Z7: DNP | AA7: DNP | AB7: DNP | AC7: DNP | AD7: DNP | AE7: DNP | AF7: DNP | AG7: DNP | AH7: DNP | AI7: DNP | AJ7: DNP | AK7: DNP | AL7: DNP | AM7: DNP | AN7: DNP | AO7: DNP | AP7: DNP | AQ7: DNP | AR7: DNP | AS7: DNP | AT7: DNP | AU7: DNP | AV7: DNP | AW7: DNP | AX7: DNP | AY7: DNP | AZ7: DNP | BA7: DNP | BB7: DNP | BC7: DNP | BD7: DNP | BE7: DNP | BF7: DNP | BG7: DNP | BH7: DNP | BI7: DNP | BJ7: DNP | BK7: DNP | BL7: DNP | BM7: DNP | BN7: DNP | BO7: DNP | BP7: DNP | BQ7: DNP | BR7: DNP | BS7: DNP | BT7: DNP | BU7: DNP | BV7: DNP | BW7: DNP | BX7: DNP | BY7: DNP | BZ7: DNP | CA7: DNP | CB7: DNP | CC7: DNP | CD7: DNP | CE7: DNP | CF7: DNP | CG7: DNP | CH7: DNP | CI7: DNP | CJ7: DNP | CK7: DNP | CL7: DNP | CM7: DNP | CN7: DNP | CO7: DNP | CP7: DNP | CQ7: DNP | CR7: DNP | CS7: DNP | CT7: DNP | CV7: DNP | CW7: DNP | CX7: DNP | CY7: DNP | CZ7: DNP | DA7: DNP | DB7: DNP | DC7: DNP | DD7: DNP | DE7: DNP | DF7: DNP | DG7: DNP | DH7: DNP | DI7: DNP | DJ7: DNP | DK7: DNP | DL7: DNP | DM7: DNP | DN7: DNP | DO7: DNP | DP7: DNP | DQ7: DNP | DR7: DNP | DS7: DNP | DT7: DNP | DU7: DNP | DV7: DNP | DW7: DNP | DX7: DNP | DY7: DNP | DZ7: DNP | EA7: DNP | EB7: DNP | EC7: DNP | ED7: DNP | EE7: DNP | EF7: DNP | EG7: DNP | EH7: DNP | EI7: DNP | EJ7: DNP | EK7: DNP | EL7: DNP | EM7: DNP | EN7: DNP | EO7: DNP | EP7: DNP | EQ7: 1 | ER7: 1 | ES7: 1 | ET7: 1 | EU7: 1 | EV7: DNP | EW7: DNP | EX7: 1 | EY7: DNP | EZ7: DNP | FA7: DNP | FB7: DNP | FC7: DNP | FD7: 1 | FE7: DNP | FF7: 1 | FG7: 1 | FH7: DNP | FI7: DNP | FJ7: DNP | FK7: DNP | FL7: 1 | FM7: 1 | FN7: 1 | FO7: DNP | FP7: DNP | FQ7: DNP | FR7: DNP | FS7: 1 | FT7: DNP | FU7: DNP | FV7: 1 | FW7: 1 | FX7: DNP | FY7: DNP | FZ7: 1 | GA7: DNP | GB7: DNP | GC7: DNP | GD7: DNP | GE7: 1 | GF7: 1 | GG7: 1 | GH7: DNP | GI7: 1 | GJ7: 1 | GK7: DNP | GL7: DNP | GM7: 1 | GN7: 1 | GO7: 1 | GP7: DNP | GQ7: 1 | GR7: DNP | GS7: 1 | GT7: 1 | GU7: DNP | GV7: 1 | GW7: 1 | GX7: DNP | GY7: DNP | GZ7: DNP | HA7: DNP | HB7: 1 | HC7: 1 | HD7: DNP | HE7: DNP | HF7: 1 | HG7: 1 | HH7: DNP | HI7: DNP | HJ7: 1 | HP7: =SUM(B7:HO7) -> 34
A8: DAVID CLARK | B8: 1 | C8: 1 | D8: 1 | E8: 1 | F8: 1 | G8: 1 | H8: 1 | I8: 1 | J8: 1 | K8: DNP | L8: 1 | M8: 1 | N8: 1 | O8: 1 | P8: 1 | Q8: 1 | R8: 1 | S8: 1 | T8: DNP | U8: 1 | V8: 1 | W8: 1 | X8: 1 | Y8: 1 | Z8: 1 | AA8: 1 | AB8: 1 | AC8: DNP | AD8: 1 | AE8: 1 | AF8: 1 | AG8: 1 | AH8: 1 | AI8: 1 | AJ8: 1 | AK8: 1 | AL8: 1 | AM8: 1 | AN8: 1 | AO8: 1 | AP8: 1 | AQ8: 1 | AR8: 1 | AS8: 1 | AT8: DNP | AU8: 1 | AV8: 1 | AW8: 1 | AX8: 1 | AY8: 1 | AZ8: DNP | BA8: 1 | BB8: 1 | BC8: DNP | BD8: 1 | BE8: 1 | BF8: DNP | BG8: DNP | BH8: 1 | BI8: 1 | BJ8: 1 | BK8: 1 | BL8: 1 | BM8: 1 | BN8: 1 | BO8: 1 | BP8: 1 | BQ8: 1 | BR8: 1 | BS8: 1 | BT8: 1 | BU8: 1 | BV8: 1 | BW8: 1 | BX8: DNP | BY8: 1 | BZ8: 1 | CA8: 1 | CB8: 1 | CC8: 1 | CD8: 1 | CE8: 1 | CF8: 1 | CG8: 1 | CH8: 1 | CI8: 1 | CJ8: 1 | CK8: 1 | CL8: DNP | CM8: DNP | CN8: 1 | CO8: 1 | CP8: 1 | CQ8: 1 | CR8: 1 | CS8: DNP | CT8: DNP | CV8: 1 | CW8: 1 | CX8: 1 | CY8: 1 | CZ8: DNP | DA8: 1 | DB8: 1 | DC8: 1 | DD8: 1 | DE8: 1 | DF8: 1 | DG8: 1 | DH8: 1 | DI8: 1 | DJ8: DNP | DK8: DNP | DL8: 1 | DM8: 1 | DN8: DNP | DO8: 1 | DP8: 1 | DQ8: 1 | DR8: 1 | DS8: 1 | DT8: 1 | DU8: 1 | DV8: 1 | DW8: 1 | DX8: DNP | DY8: 1 | DZ8: 1 | EA8: 1 | EB8: 1 | EC8: 1 | ED8: 1 | EE8: 1 | EF8: 1 | EG8: 1 | EH8: 1 | EI8: 1 | EJ8: 1 | EK8: DNP | EL8: 1 | EM8: DNP | EN8: DNP | EO8: 1 | EP8: 1 | EQ8: 1 | ER8: 1 | ES8: DNP | ET8: 1 | EU8: 1 | EV8: 1 | EW8: DNP | EX8: DNP | EY8: DNP | EZ8: DNP | FA8: DNP | FB8: 1 | FC8: 1 | FD8: 1 | FE8: 1 | FF8: 1 | FG8: 1 | FH8: 1 | FI8: 1 | FJ8: 1 | FK8: 1 | FL8: 1 | FM8: DNP | FN8: 1 | FO8: 1 | FP8: 1 | FQ8: 1 | FR8: 1 | FS8: 1 | FT8: 1 | FU8: 1 | FV8: 1 | FW8: 1 | FX8: 1 | FY8: 1 | FZ8: 1 | GA8: 1 | GB8: 1 | GC8: 1 | GD8: 1 | GE8: DNP | GF8: 1 | GG8: 1 | GH8: 1 | GI8: DNP | GJ8: 1 | GK8: 1 | GL8: DNP | GM8: DNP | GN8: 1 | GO8: 1 | GP8: 1 | GQ8: 1 | GR8: DNP | GS8: 1 | GT8: 1 | GU8: 1 | GV8: 1 | GW8: 1 | GX8: DNP | GY8: 1 | GZ8: 1 | HA8: 1 | HB8: 1 | HC8: 1 | HD8: 1 | HE8: 1 | HF8: 1 | HG8: 1 | HH8: 1 | HI8: 1 | HJ8: 1 | HP8: =SUM(B8:HO8) -> 182
A9: ROB COWEN | B9: DNP | C9: DNP | D9: DNP | E9: DNP | F9: DNP | G9: DNP | H9: DNP | I9: DNP | J9: DNP | K9: DNP | L9: DNP | M9: DNP | N9: DNP | O9: DNP | P9: DNP | Q9: 1 | R9: 1 | S9: 1 | T9: 1 | U9: 1 | V9: 1 | W9: 1 | X9: 1 | Y9: 1 | Z9: 1 | AA9: 1 | AB9: 1 | AC9: 1 | AD9: 1 | AE9: 1 | AF9: 1 | AG9: 1 | AH9: 1 | AI9: 1 | AJ9: 1 | AK9: 1 | AL9: 1 | AM9: 1 | AN9: 1 | AO9: 1 | AP9: 1 | AQ9: 1 | AR9: 1 | AS9: 1 | AT9: 1 | AU9: 1 | AV9: 1 | AW9: 1 | AX9: 1 | AY9: 1 | AZ9: 1 | BA9: 1 | BB9: 1 | BC9: 1 | BD9: 1 | BE9: 1 | BF9: 1 | BG9: 1 | BH9: 1 | BI9: 1 | BJ9: 1 | BK9: 1 | BL9: 1 | BM9: 1 | BN9: 1 | BO9: DNP | BP9: DNP | BQ9: 1 | BR9: 1 | BS9: 1 | BT9: 1 | BU9: 1 | BV9: 1 | BW9: 1 | BX9: 1 | BY9: 1 | BZ9: 1 | CA9: 1 | CB9: 1 | CC9: 1 | CD9: DNP | CE9: 1 | CF9: 1 | CG9: 1 | CH9: 1 | CI9: 1 | CJ9: 1 | CK9: 1 | CL9: DNP | CM9: 1 | CN9: 1 | CO9: 1 | CP9: 1 | CQ9: 1 | CR9: 1 | CS9: DNP | CT9: 1 | CV9: 1 | CW9: 1 | CX9: 1 | CY9: 1 | CZ9: 1 | DA9: 1 | DB9: 1 | DC9: 1 | DD9: 1 | DE9: 1 | DF9: 1 | DG9: 1 | DH9: 1 | DI9: 1 | DJ9: 1 | DK9: 1 | DL9: 1 | DM9: 1 | DN9: DNP | DO9: 1 | DP9: 1 | DQ9: 1 | DR9: 1 | DS9: 1 | DT9: 1 | DU9: 1 | DV9: 1 | DW9: 1 | DX9: 1 | DY9: 1 | DZ9: 1 | EA9: 1 | EB9: 1 | EC9: 1 | ED9: 1 | EE9: 1 | EF9: 1 | EG9: 1 | EH9: 1 | EI9: 1 | EJ9: 1 | EK9: 1 | EL9: 1 | EM9: 1 | EN9: 1 | EO9: 1 | EP9: 1 | EQ9: 1 | ER9: 1 | ES9: 1 | ET9: 1 | EU9: 1 | EV9: 1 | EW9: DNP | EX9: 1 | EY9: DNP | EZ9: DNP | FA9: DNP | FB9: 1 | FC9: 1 | FD9: 1 | FE9: 1 | FF9: 1 | FG9: 1 | FH9: 1 | FI9: 1 | FJ9: 1 | FK9: DNP | FL9: 1 | FM9: 1 | FN9: 1 | FO9: 1 | FP9: 1 | FQ9: 1 | FR9: 1 | FS9: 1 | FT9: 1 | FU9: 1 | FV9: 1 | FW9: 1 | FX9: 1 | FY9: 1 | FZ9: 1 | GA9: 1 | GB9: 1 | GC9: 1 | GD9: 1 | GE9: 1 | GF9: 1 | GG9: 1 | GH9: 1 | GI9: 1 | GJ9: 1 | GK9: 1 | GL9: 1 | GM9: 1 | GN9: 1 | GO9: 1 | GP9: 1 | GQ9: 1 | GR9: 1 | GS9: 1 | GT9: 1 | GU9: 1 | GV9: 1 | GW9: 1 | GX9: 1 | GY9: 1 | GZ9: 1 | HA9: 1 | HB9: 1 | HC9: 1 | HD9: 1 | HE9: 1 | HF9: 1 | HG9: 1 | HH9: 1 | HI9: 1 | HJ9: 1 | HP9: =SUM(B9:HO9) -> 190
A10: GREG CRIMMINS | B10: DNP | C10: DNP | D10: 1 | E10: 1 | F10: 1 | G10: DNP | H10: 1 | I10: 1 | J10: 1 | K10: 1 | L10: 1 | M10: DNP | N10: DNP | O10: 1 | P10: 1 | Q10: 1 | R10: 1 | S10: 1 | T10: 1 | U10: 1 | V10: DNP | W10: DNP | X10: 1 | Y10: 1 | Z10: 1 | AA10: 1 | AB10: DNP | AC10: 1 | AD10: 1 | AE10: 1 | AF10: 1 | AG10: 1 | AH10: 1 | AI10: DNP | AJ10: 1 | AK10: 1 | AL10: 1 | AM10: 1 | AN10: DNP | AO10: 1 | AP10: 1 | AQ10: 1 | AR10: 1 | AS10: 1 | AT10: 1 | AU10: 1 | AV10: DNP | AW10: 1 | AX10: DNP | AY10: 1 | AZ10: 1 | BA10: 1 | BB10: DNP | BC10: 1 | BD10: DNP | BE10: 1 | BF10: 1 | BG10: DNP | BH10: 1 | BI10: 1 | BJ10: 1 | BK10: 1 | BL10: 1 | BM10: 1 | BN10: 1 | BO10: 1 | BP10: 1 | BQ10: 1 | BR10: 1 | BS10: 1 | BT10: 1 | BU10: 1 | BV10: 1 | BW10: 1 | BX10: 1 | BY10: 1 | BZ10: 1 | CA10: 1 | CB10: DNP | CC10: 1 | CD10: 1 | CE10: DNP | CF10: 1 | CG10: 1 | CH10: 1 | CI10: 1 | CJ10: 1 | CK10: 1 | CL10: 1 | CM10: 1 | CN10: DNP | CO10: 1 | CP10: DNP | CQ10: 1 | CR10: 1 | CS10: DNP | CT10: 1 | CV10: 1 | CW10: 1 | CX10: 1 | CY10: DNP | CZ10: DNP | DA10: 1 | DB10: 1 | DC10: 1 | DD10: 1 | DE10: 1 | DF10: 1 | DG10: 1 | DH10: 1 | DI10: 1 | DJ10: 1 | DK10: 1 | DL10: 1 | DM10: 1 | DN10: 1 | DO10: 1 | DP10: 1 | DQ10: 1 | DR10: 1 | DS10: 1 | DT10: 1 | DU10: 1 | DV10: 1 | DW10: 1 | DX10: 1 | DY10: 1 | DZ10: 1 | EA10: 1 | EB10: 1 | EC10: 1 | ED10: 1 | EE10: 1 | EF10: 1 | EG10: 1 | EH10: 1 | EI10: 1 | EJ10: 1 | EK10: 1 | EL10: 1 | EM10: 1 | EN10: 1 | EO10: 1 | EP10: 1 | EQ10: 1 | ER10: 1 | ES10: 1 | ET10: 1 | EU10: 1 | EV10: 1 | EW10: DNP | EX10: 1 | EY10: DNP | EZ10: DNP | FA10: DNP | FB10: 1 | FC10: 1 | FD10: 1 | FE10: 1 | FF10: 1 | FG10: 1 | FH10: 1 | FI10: 1 | FJ10: 1 | FK10: 1 | FL10: 1 | FM10: 1 | FN10: 1 | FO10: 1 | FP10: 1 | FQ10: 1 | FR10: 1 | FS10: 1 | FT10: 1 | FU10: 1 | FV10: DNP | FW10: 1 | FX10: 1 | FY10: 1 | FZ10: 1 | GA10: 1 | GB10: 1 | GC10: 1 | GD10: 1 | GE10: 1 | GF10: 1 | GG10: 1 | GH10: 1 | GI10: 1 | GJ10: 1 | GK10: 1 | GL10: 1 | GM10: 1 | GN10: 1 | GO10: 1 | GP10: 1 | GQ10: 1 | GR10: 1 | GS10: 1 | GT10: 1 | GU10: 1 | GV10: 1 | GW10: 1 | GX10: 1 | GY10: 1 | GZ10: 1 | HA10: 1 | HB10: 1 | HC10: 1 | HD10: 1 | HE10: 1 | HF10: 1 | HG10: 1 | HH10: 1 | HI10: 1 | HJ10: 1 | HP10: =SUM(B10:HO10) -> 189
A11: WAYNE CURTIS | B11: DNP | C11: DNP | D11: DNP | E11: DNP | F11: DNP | G11: DNP | H11: DNP | I11: DNP | J11: DNP | K11: DNP | L11: DNP | M11: DNP | N11: DNP | O11: DNP | P11: DNP | Q11: DNP | R11: DNP | S11: DNP | T11: DNP | U11: DNP | V11: DNP | W11: DNP | X11: DNP | Y11: DNP | Z11: DNP | AA11: DNP | AB11: DNP | AC11: DNP | AD11: DNP | AE11: DNP | AF11: DNP | AG11: DNP | AH11: DNP | AI11: DNP | AJ11: DNP | AK11: DNP | AL11: DNP | AM11: DNP | AN11: DNP | AO11: DNP | AP11: DNP | AQ11: DNP | AR11: DNP | AS11: DNP | AT11: DNP | AU11: DNP | AV11: DNP | AW11: DNP | AX11: DNP | AY11: DNP | AZ11: DNP | BA11: DNP | BB11: DNP | BC11: DNP | BD11: DNP | BE11: DNP | BF11: DNP | BG11: DNP | BH11: 1 | BI11: 1 | BJ11: 1 | BK11: DNP | BL11: DNP | BM11: DNP | BN11: 1 | BO11: 1 | BP11: 1 | BQ11: 1 | BR11: 1 | BS11: DNP | BT11: 1 | BU11: 1 | BV11: 1 | BW11: 1 | BX11: 1 | BY11: 1 | BZ11: 1 | CA11: 1 | CB11: DNP | CC11: 1 | CD11: 1 | CE11: 1 | CF11: 1 | CG11: 1 | CH11: 1 | CI11: 1 | CJ11: 1 | CK11: 1 | CL11: 1 | CM11: 1 | CN11: 1 | CO11: 1 | CP11: 1 | CQ11: 1 | CR11: DNP | CS11: DNP | CT11: DNP | CU11: DNP | CV11: DNP | CW11: DNP | CX11: 1 | CY11: DNP | CZ11: 1 | DA11: 1 | DB11: 1 | DC11: DNP | DD11: 1 | DE11: 1 | DF11: 1 | DG11: 1 | DH11: DNP | DI11: DNP | DJ11: 1 | DK11: DNP | DL11: 1 | DM11: 1 | DN11: DNP | DO11: DNP | DP11: DNP | DQ11: DNP | DR11: 1 | DS11: 1 | DT11: DNP | DU11: DNP | DV11: DNP | DW11: DNP | DX11: DNP | DY11: DNP | DZ11: DNP | EA11: DNP | EB11: DNP | EC11: DNP | ED11: DNP | EE11: DNP | EF11: DNP | EG11: DNP | EH11: DNP | EI11: DNP | EJ11: DNP | EK11: DNP | EL11: DNP | EM11: DNP | EN11: DNP | EO11: DNP | EP11: DNP | EQ11: DNP | ER11: DNP | ES11: DNP | ET11: DNP | EU11: DNP | EV11: DNP | EW11: DNP | EX11: DNP | EY11: DNP | EZ11: DNP | FA11: DNP | FB11: DNP | FC11: DNP | FD11: DNP | FE11: DNP | FF11: DNP | FG11: DNP | FH11: DNP | FI11: DNP | FJ11: DNP | FK11: DNP | FL11: DNP | FM11: DNP | FN11: DNP | FO11: DNP | FP11: DNP | FQ11: DNP | FR11: DNP | FS11: DNP | FT11: DNP | FU11: DNP | FV11: DNP | FW11: DNP | FX11: DNP | FY11: DNP | FZ11: DNP | GA11: DNP | GB11: DNP | GC11: DNP | GD11: DNP | GE11: DNP | GF11: DNP | GG11: DNP | GH11: DNP | GI11: DNP | GJ11: DNP | GK11: DNP | GL11: DNP | GM11: DNP | GN11: DNP | GO11: DNP | GP11: DNP | GQ11: DNP | GR11: DNP | GS11: DNP | GT11: DNP | GU11: DNP | GV11: DNP | GW11: DNP | GX11: DNP | GY11: DNP | GZ11: DNP | HA11: DNP | HB11: DNP | HC11: DNP | HD11: DNP | HE11: DNP | HF11: DNP | HG11: DNP | HH11: DNP | HI11: DNP | HJ11: DNP | HP11: =SUM(B11:HO11) -> 44
A12: MATT DALRYMPLE | B12: DNP | C12: DNP | D12: DNP | E12: DNP | F12: DNP | G12: DNP | H12: DNP | I12: DNP | J12: DNP | K12: DNP | L12: DNP | M12: DNP | N12: DNP | O12: DNP | P12: DNP | Q12: DNP | R12: DNP | S12: DNP | T12: DNP | U12: DNP | V12: DNP | W12: DNP | X12: DNP | Y12: DNP | Z12: DNP | AA12: DNP | AB12: DNP | AC12: DNP | AD12: DNP | AE12: DNP | AF12: DNP | AG12: DNP | AH12: DNP | AI12: DNP | AJ12: DNP | AK12: DNP | AL12: DNP | AM12: DNP | AN12: DNP | AO12: DNP | AP12: DNP | AQ12: DNP | AR12: DNP | AS12: DNP | AT12: DNP | AU12: DNP | AV12: DNP | AW12: DNP | AX12: DNP | AY12: DNP | AZ12: DNP | BA12: DNP | BB12: DNP | BC12: DNP | BD12: DNP | BE12: DNP | BF12: DNP | BG12: DNP | BH12: DNP | BI12: DNP | BJ12: DNP | BK12: DNP | BL12: DNP | BM12: DNP | BN12: DNP | BO12: DNP | BP12: DNP | BQ12: DNP | BR12: DNP | BS12: DNP | BT12: DNP | BU12: DNP | BV12: DNP | BW12: DNP | BX12: DNP | BY12: DNP | BZ12: DNP | CA12: DNP | CB12: DNP | CC12: DNP | CD12: DNP | CE12: DNP | CF12: DNP | CG12: DNP | CH12: DNP | CI12: DNP | CJ12: DNP | CK12: DNP | CL12: DNP | CM12: DNP | CN12: DNP | CO12: DNP | CP12: DNP | CQ12: DNP | CR12: DNP | CS12: DNP | CT12: DNP | CV12: DNP | CW12: DNP | CX12: DNP | CY12: DNP | CZ12: DNP | DA12: DNP | DB12: DNP | DC12: DNP | DD12: DNP | DE12: DNP | DF12: DNP | DG12: DNP | DH12: 1 | DI12: 1 | DJ12: 1 | DK12: 1 | DL12: 1 | DM12: 1 | DN12: 1 | DO12: 1 | DP12: 1 | DQ12: 1 | DR12: 1 | DS12: 1 | DT12: 1 | DU12: 1 | DV12: 1 | DW12: 1 | DX12: 1 | DY12: 1 | DZ12: 1 | EA12: 1 | EB12: 1 | EC12: 1 | ED12: 1 | EE12: 1 | EF12: 1 | EG12: 1 | EH12: 1 | EI12: 1 | EJ12: 1 | EK12: 1 | EL12: 1 | EM12: 1 | EN12: 1 | EO12: 1 | EP12: 1 | EQ12: 1 | ER12: 1 | ES12: 1 | ET12: 1 | EU12: 1 | EV12: 1 | EW12: DNP | EX12: 1 | EY12: DNP | EZ12: DNP | FA12: DNP | FB12: 1 | FC12: 1 | FD12: 1 | FE12: DNP | FF12: 1 | FG12: 1 | FH12: 1 | FI12: 1 | FJ12: 1 | FK12: 1 | FL12: 1 | FM12: 1 | FN12: 1 | FO12: 1 | FP12: 1 | FQ12: 1 | FR12: 1 | FS12: DNP | FT12: 1 | FU12: 1 | FV12: 1 | FW12: 1 | FX12: 1 | FY12: 1 | FZ12: 1 | GA12: 1 | GB12: 1 | GC12: 1 | GD12: 1 | GE12: 1 | GF12: 1 | GG12: 1 | GH12: 1 | GI12: 1 | GJ12: 1 | GK12: 1 | GL12: 1 | GM12: 1 | GN12: 1 | GO12: 1 | GP12: 1 | GQ12: 1 | GR12: 1 | GS12: 1 | GT12: 1 | GU12: 1 | GV12: 1 | GW12: 1 | GX12: 1 | GY12: 1 | GZ12: 1 | HA12: 1 | HB12: 1 | HC12: 1 | HD12: 1 | HE12: 1 | HF12: 1 | HG12: 1 | HH12: 1 | HI12: 1 | HJ12: 1 | HP12: =SUM(B12:HO12) -> 101
A13: ALEX DEAN | B13: DNP | C13: DNP | D13: DNP | E13: DNP | F13: DNP | G13: DNP | H13: DNP | I13: DNP | J13: DNP | K13: DNP | L13: DNP | M13: DNP | N13: DNP | O13: DNP | P13: DNP | Q13: DNP | R13: DNP | S13: DNP | T13: DNP | U13: DNP | V13: DNP | W13: DNP | X13: DNP | Y13: DNP | Z13: DNP | AA13: DNP | AB13: DNP | AC13: DNP | AD13: DNP | AE13: DNP | AF13: DNP | AG13: DNP | AH13: DNP | AI13: DNP | AJ13: DNP | AK13: DNP | AL13: DNP | AM13: DNP | AN13: DNP | AO13: DNP | AP13: DNP | AQ13: DNP | AR13: DNP | AS13: DNP | AT13: DNP | AU13: DNP | AV13: DNP | AW13: DNP | AX13: DNP | AY13: DNP | AZ13: DNP | BA13: DNP | BB13: 1 | BC13: DNP | BD13: DNP | BE13: DNP | BF13: DNP | BG13: DNP | BH13: DNP | BI13: DNP | BJ13: DNP | BK13: DNP | BL13: DNP | BM13: DNP | BN13: DNP | BO13: DNP | BP13: DNP | BQ13: DNP | BR13: DNP | BS13: DNP | BT13: DNP | BU13: DNP | BV13: DNP | BW13: DNP | BX13: DNP | BY13: DNP | BZ13: DNP | CA13: DNP | CB13: DNP | CC13: DNP | CD13: DNP | CE13: DNP | CF13: DNP | CG13: DNP | CH13: DNP | CI13: DNP | CJ13: DNP | CK13: DNP | CL13: DNP | CM13: DNP | CN13: DNP | CO13: DNP | CP13: DNP | CQ13: DNP | CR13: DNP | CS13: DNP | CT13: DNP | CV13: DNP | CW13: DNP | CX13: DNP | CY13: DNP | CZ13: DNP | DA13: DNP | DB13: DNP | DC13: DNP | DD13: DNP | DE13: DNP | DF13: DNP | DG13: DNP | DH13: DNP | DI13: DNP | DJ13: DNP | DK13: DNP | DL13: DNP | DM13: DNP | DN13: DNP | DO13: DNP | DP13: DNP | DQ13: DNP | DR13: DNP | DS13: DNP | DT13: DNP | DU13: DNP | DV13: DNP | DW13: DNP | DX13: DNP | DY13: DNP | DZ13: DNP | EA13: DNP | EB13: DNP | EC13: DNP | ED13: DNP | EE13: DNP | EF13: 1 | EG13: 1 | EH13: 1 | EI13: 1 | EJ13: 1 | EK13: 1 | EL13: 1 | EM13: 1 | EN13: 1 | EO13: 1 | EP13: 1 | EQ13: 1 | ER13: 1 | ES13: 1 | ET13: 1 | EU13: 1 | EV13: 1 | EW13: DNP | EX13: 1 | EY13: DNP | EZ13: DNP | FA13: DNP | FB13: 1 | FC13: 1 | FD13: 1 | FE13: 1 | FF13: 1 | FG13: DNP | FH13: 1 | FI13: 1 | FJ13: 1 | FK13: 1 | FL13: 1 | FM13: 1 | FN13: 1 | FO13: 1 | FP13: 1 | FQ13: 1 | FR13: 1 | FS13: DNP | FT13: 1 | FU13: 1 | FV13: 1 | FW13: 1 | FX13: 1 | FY13: 1 | FZ13: 1 | GA13: 1 | GB13: 1 | GC13: 1 | GD13: 1 | GE13: DNP | GF13: 1 | GG13: 1 | GH13: DNP | GI13: 1 | GJ13: DNP | GK13: DNP | GL13: DNP | GM13: DNP | GN13: 1 | GO13: 1 | GP13: 1 | GQ13: 1 | GR13: 1 | GS13: 1 | GT13: 1 | GU13: 1 | GV13: DNP | GW13: 1 | GX13: 1 | GY13: 1 | GZ13: DNP | HA13: 1 | HB13: 1 | HC13: 1 | HD13: 1 | HE13: 1 | HF13: 1 | HG13: 1 | HH13: 1 | HI13: 1 | HJ13: 1 | HP13: =SUM(B13:HO13) -> 70
A14: LUKE DONOVAN | B14: 1 | C14: DNP | D14: 1 | E14: 1 | F14: 1 | G14: DNP | H14: 1 | I14: 1 | J14: DNP | K14: 1 | L14: 1 | M14: 1 | N14: 1 | O14: 1 | P14: 1 | Q14: 1 | R14: 1 | S14: DNP | T14: 1 | U14: DNP | V14: 1 | W14: 1 | X14: DNP | Y14: DNP | Z14: 1 | AA14: 1 | AB14: 1 | AC14: 1 | AD14: DNP | AE14: 1 | AF14: DNP | AG14: 1 | AH14: 1 | AI14: 1 | AJ14: 1 | AK14: 1 | AL14: 1 | AM14: DNP | AN14: DNP | AO14: 1 | AP14: DNP | AQ14: 1 | AR14: 1 | AS14: DNP | AT14: 1 | AU14: DNP | AV14: DNP | AW14: 1 | AX14: 1 | AY14: 1 | AZ14: DNP | BA14: 1 | BB14: 1 | BC14: 1 | BD14: DNP | BE14: 1 | BF14: 1 | BG14: DNP | BH14: DNP | BI14: DNP | BJ14: 1 | BK14: 1 | BL14: 1 | BM14: 1 | BN14: 1 | BO14: 1 | BP14: DNP | BQ14: 1 | BR14: DNP | BS14: 1 | BT14: 1 | BU14: 1 | BV14: 1 | BW14: 1 | BX14: 1 | BY14: 1 | BZ14: DNP | CA14: 1 | CB14: DNP | CC14: 1 | CD14: 1 | CE14: DNP | CF14: 1 | CG14: 1 | CH14: 1 | CI14: 1 | CJ14: 1 | CK14: 1 | CL14: 1 | CM14: 1 | CN14: 1 | CO14: 1 | CP14: 1 | CQ14: 1 | CR14: 1 | CS14: DNP | CT14: 1 | CV14: DNP | CW14: 1 | CX14: 1 | CY14: DNP | CZ14: DNP | DA14: 1 | DB14: 1 | DC14: 1 | DD14: 1 | DE14: 1 | DF14: 1 | DG14: 1 | DH14: 1 | DI14: 1 | DJ14: DNP | DK14: 1 | DL14: 1 | DM14: 1 | DN14: DNP | DO14: DNP | DP14: 1 | DQ14: 1 | DR14: 1 | DS14: 1 | DT14: 1 | DU14: 1 | DV14: DNP | DW14: DNP | DX14: 1 | DY14: 1 | DZ14: 1 | EA14: 1 | EB14: 1 | EC14: 1 | ED14: DNP | EE14: DNP | EF14: 1 | EG14: 1 | EH14: 1 | EI14: 1 | EJ14: 1 | EK14: 1 | EL14: 1 | EM14: 1 | EN14: DNP | EO14: 1 | EP14: 1 | EQ14: DNP | ER14: DNP | ES14: DNP | ET14: 1 | EU14: 1 | EV14: DNP | EW14: DNP | EX14: 1 | EY14: DNP | EZ14: DNP | FA14: DNP | FB14: 1 | FC14: DNP | FD14: 1 | FE14: DNP | FF14: 1 | FG14: DNP | FH14: 1 | FI14: 1 | FJ14: DNP | FK14: 1 | FL14: 1 | FM14: DNP | FN14: 1 | FO14: 1 | FP14: 1 | FQ14: 1 | FR14: 1 | FS14: 1 | FT14: 1 | FU14: 1 | FV14: 1 | FW14: DNP | FX14: DNP | FY14: 1 | FZ14: 1 | GA14: 1 | GB14: 1 | GC14: 1 | GD14: DNP | GE14: DNP | GF14: 1 | GG14: DNP | GH14: 1 | GI14: DNP | GJ14: 1 | GK14: DNP | GL14: 1 | GM14: 1 | GN14: 1 | GO14: 1 | GP14: 1 | GQ14: DNP | GR14: 1 | GS14: DNP | GT14: 1 | GU14: DNP | GV14: DNP | GW14: 1 | GX14: 1 | GY14: 1 | GZ14: 1 | HA14: 1 | HB14: 1 | HC14: 1 | HD14: 1 | HE14: 1 | HF14: 1 | HG14: 1 | HH14: 1 | HI14: DNP | HJ14: 1 | HP14: =SUM(B14:HO14) -> 154
A15: WARWICK FRASER | B15: DNP | C15: DNP | D15: DNP | E15: DNP | F15: DNP | G15: DNP | H15: DNP | I15: DNP | J15: DNP | K15: DNP | L15: DNP | M15: DNP | N15: DNP | O15: DNP | P15: DNP | Q15: DNP | R15: 1 | S15: 1 | T15: 1 | U15: 1 | V15: 1 | W15: 1 | X15: 1 | Y15: 1 | Z15: 1 | AA15: 1 | AB15: 1 | AC15: 1 | AD15: 1 | AE15: 1 | AF15: DNP | AG15: 1 | AH15: 1 | AI15: 1 | AJ15: 1 | AK15: 1 | AL15: 1 | AM15: 1 | AN15: 1 | AO15: 1 | AP15: 1 | AQ15: 1 | AR15: 1 | AS15: 1 | AT15: 1 | AU15: DNP | AV15: 1 | AW15: 1 | AX15: 1 | AY15: 1 | AZ15: 1 | BA15: 1 | BB15: 1 | BC15: DNP | BD15: 1 | BE15: 1 | BF15: 1 | BG15: 1 | BH15: 1 | BI15: 1 | BJ15: 1 | BK15: 1 | BL15: 1 | BM15: 1 | BN15: 1 | BO15: 1 | BP15: 1 | BQ15: 1 | BR15: 1 | BS15: 1 | BT15: 1 | BU15: 1 | BV15: 1 | BW15: 1 | BX15: 1 | BY15: 1 | BZ15: 1 | CA15: 1 | CB15: 1 | CC15: 1 | CD15: 1 | CE15: DNP | CF15: DNP | CG15: 1 | CH15: 1 | CI15: 1 | CJ15: 1 | CK15: 1 | CL15: 1 | CM15: 1 | CN15: 1 | CO15: 1 | CP15: 1 | CQ15: 1 | CR15: 1 | CS15: DNP | CT15: 1 | CV15: 1 | CW15: 1 | CX15: 1 | CY15: DNP | CZ15: 1 | DA15: 1 | DB15: DNP | DC15: 1 | DD15: 1 | DE15: 1 | DF15: 1 | DG15: 1 | DH15: 1 | DI15: DNP | DJ15: 1 | DK15: 1 | DL15: 1 | DM15: 1 | DN15: DNP | DO15: DNP | DP15: DNP | DQ15: DNP | DR15: DNP | DS15: DNP | DT15: 1 | DU15: 1 | DV15: 1 | DW15: 1 | DX15: DNP | DY15: 1 | DZ15: DNP | EA15: 1 | EB15: 1 | EC15: 1 | ED15: 1 | EE15: 1 | EF15: 1 | EG15: DNP | EH15: 1 | EI15: DNP | EJ15: 1 | EK15: DNP | EL15: DNP | EM15: 1 | EN15: DNP | EO15: 1 | EP15: 1 | EQ15: DNP | ER15: DNP | ES15: 1 | ET15: 1 | EU15: DNP | EV15: DNP | EW15: DNP | EX15: DNP | EY15: DNP | EZ15: DNP | FA15: DNP | FB15: 1 | FC15: 1 | FD15: DNP | FE15: 1 | FF15: 1 | FG15: DNP | FH15: DNP | FI15: DNP | FJ15: 1 | FK15: 1 | FL15: 1 | FM15: DNP | FN15: 1 | FO15: DNP | FP15: 1 | FQ15: 1 | FR15: DNP | FS15: 1 | FT15: DNP | FU15: DNP | FV15: 1 | FW15: DNP | FX15: DNP | FY15: 1 | FZ15: 1 | GA15: 1 | GB15: 1 | GC15: 1 | GD15: DNP | GE15: DNP | GF15: DNP | GG15: DNP | GH15: 1 | GI15: 1 | GJ15: DNP | GK15: DNP | GL15: 1 | GM15: 1 | GN15: 1 | GO15: 1 | GP15: DNP | GQ15: 1 | GR15: 1 | GS15: DNP | GT15: DNP | GU15: DNP | GV15: DNP | GW15: DNP | GX15: DNP | GY15: 1 | GZ15: DNP | HA15: DNP | HB15: 1 | HC15: 1 | HD15: 1 | HE15: DNP | HF15: 1 | HG15: 1 | HH15: DNP | HI15: DNP | HJ15: DNP | HP15: =SUM(B15:HO15) -> 139
A16: JOHN GRAY | B16: DNP | C16: DNP | D16: DNP | E16: DNP | F16: DNP | G16: DNP | H16: DNP | I16: DNP | J16: DNP | K16: DNP | L16: DNP | M16: DNP | N16: DNP | O16: DNP | P16: DNP | Q16: DNP | R16: DNP | S16: DNP | T16: DNP | U16: DNP | V16: DNP | W16: DNP | X16: DNP | Y16: DNP | Z16: DNP | AA16: DNP | AB16: DNP | AC16: DNP | AD16: DNP | AE16: DNP | AF16: DNP | AG16: DNP | AH16: DNP | AI16: DNP | AJ16: DNP | AK16: DNP | AL16: DNP | AM16: DNP | AN16: DNP | AO16: DNP | AP16: DNP | AQ16: DNP | AR16: DNP | AS16: DNP | AT16: DNP | AU16: DNP | AV16: DNP | AW16: DNP | AX16: DNP | AY16: DNP | AZ16: DNP | BA16: DNP | BB16: DNP | BC16: DNP | BD16: DNP | BE16: DNP | BF16: DNP | BG16: DNP | BH16: DNP | BI16: DNP | BJ16: DNP | BK16: DNP | BL16: DNP | BM16: DNP | BN16: DNP | BO16: DNP | BP16: DNP | BQ16: DNP | BR16: DNP | BS16: DNP | BT16: DNP | BU16: DNP | BV16: DNP | BW16: DNP | BX16: DNP | BY16: DNP | BZ16: DNP | CA16: DNP | CB16: DNP | CC16: DNP | CD16: DNP | CE16: DNP | CF16: DNP | CG16: DNP | CH16: DNP | CI16: DNP | CJ16: DNP | CK16: DNP | CL16: DNP | CM16: DNP | CN16: DNP | CO16: DNP | CP16: DNP | CQ16: DNP | CR16: DNP | CS16: DNP | CT16: DNP | CV16: DNP | CW16: DNP | CX16: DNP | CY16: DNP | CZ16: DNP | DA16: DNP | DB16: DNP | DC16: DNP | DD16: DNP | DE16: DNP | DF16: DNP | DG16: DNP | DH16: DNP | DI16: DNP | DJ16: DNP | DK16: DNP | DL16: DNP | DM16: DNP | DN16: DNP | DO16: DNP | DP16: DNP | DQ16: DNP | DR16: DNP | DS16: DNP | DT16: DNP | DU16: DNP | DV16: DNP | DW16: DNP | DX16: DNP | DY16: DNP | DZ16: DNP | EA16: DNP | EB16: DNP | EC16: DNP | ED16: DNP | EE16: DNP | EF16: DNP | EG16: DNP | EH16: DNP | EI16: DNP | EJ16: DNP | EK16: DNP | EL16: DNP | EM16: DNP | EN16: DNP | EO16: DNP | EP16: DNP | EQ16: DNP | ER16: DNP | ES16: DNP | ET16: DNP | EU16: DNP | EV16: DNP | EW16: DNP | EX16: DNP | EY16: DNP | EZ16: DNP | FA16: DNP | FB16: DNP | FC16: DNP | FD16: DNP | FE16: DNP | FF16: DNP | FG16: DNP | FH16: DNP | FI16: DNP | FJ16: DNP | FK16: DNP | FL16: DNP | FM16: DNP | FN16: DNP | FO16: DNP | FP16: DNP | FQ16: DNP | FR16: 1 | FS16: 1 | FT16: 1 | FU16: DNP | FV16: DNP | FW16: DNP | FX16: 1 | FY16: 1 | FZ16: DNP | GA16: DNP | GB16: 1 | GC16: 1 | GD16: 1 | GE16: 1 | GF16: DNF | GG16: 1 | GH16: 1 | GI16: DNP | GJ16: DNP | GK16: 1 | GL16: 1 | GM16: 1 | GN16: 1 | GO16: 1 | GP16: DNP | GQ16: DNP | GR16: 1 | GS16: 1 | GT16: 1 | GU16: 1 | GV16: DNP | GW16: 1 | GX16: DNP | GY16: 1 | GZ16: 1 | HA16: 1 | HB16: 1 | HC16: 1 | HD16: DNP | HE16: 1 | HF16: DNP | HG16: DNP | HH16: 1 | HI16: DNP | HJ16: DNP | HP16: =SUM(B16:HO16) -> 28
A17: DAMIAN HANNAM | B17: DNP | C17: DNP | D17: DNP | E17: DNP | F17: DNP | G17: DNP | H17: DNP | I17: DNP | J17: DNP | K17: DNP | L17: DNP | M17: DNP | N17: DNP | O17: DNP | P17: DNP | Q17: DNP | R17: DNP | S17: DNP | T17: DNP | U17: DNP | V17: DNP | W17: DNP | X17: DNP | Y17: DNP | Z17: DNP | AA17: DNP | AB17: DNP | AC17: DNP | AD17: DNP | AE17: DNP | AF17: DNP | AG17: DNP | AH17: DNP | AI17: DNP | AJ17: DNP | AK17: DNP | AL17: DNP | AM17: DNP | AN17: DNP | AO17: DNP | AP17: DNP | AQ17: DNP | AR17: DNP | AS17: DNP | AT17: DNP | AU17: DNP | AV17: DNP | AW17: DNP | AX17: DNP | AY17: DNP | AZ17: DNP | BA17: DNP | BB17: DNP | BC17: DNP | BD17: DNP | BE17: DNP | BF17: DNP | BG17: DNP | BH17: DNP | BI17: DNP | BJ17: DNP | BK17: DNP | BL17: DNP | BM17: DNP | BN17: DNP | BO17: DNP | BP17: DNP | BQ17: DNP | BR17: DNP | BS17: DNP | BT17: DNP | BU17: DNP | BV17: DNP | BW17: DNP | BX17: DNP | BY17: 1 | BZ17: 1 | CA17: DNP | CB17: 1 | CC17: 1 | CD17: DNP | CE17: 1 | CF17: DNP | CG17: 1 | CH17: DNP | CI17: 1 | CJ17: 1 | CK17: 1 | CL17: 1 | CM17: DNP | CN17: 1 | CO17: 1 | CP17: 1 | CQ17: 1 | CR17: 1 | CS17: DNP | CT17: 1 | CV17: DNP | CW17: 1 | CX17: 1 | CY17: 1 | CZ17: 1 | DA17: DNP | DB17: DNP | DC17: 1 | DD17: 1 | DE17: 1 | DF17: 1 | DG17: 1 | DH17: 1 | DI17: DNP | DJ17: 1 | DK17: 1 | DL17: 1 | DM17: 1 | DN17: DNP | DO17: 1 | DP17: 1 | DQ17: 1 | DR17: 1 | DS17: 1 | DT17: 1 | DU17: 1 | DV17: DNP | DW17: 1 | DX17: DNP | DY17: 1 | DZ17: DNP | EA17: 1 | EB17: 1 | EC17: 1 | ED17: 1 | EE17: 1 | EF17: 1 | EG17: 1 | EH17: 1 | EI17: 1 | EJ17: 1 | EK17: 1 | EL17: 1 | EM17: 1 | EN17: 1 | EO17: 1 | EP17: 1 | EQ17: 1 | ER17: 1 | ES17: 1 | ET17: 1 | EU17: DNP | EV17: 1 | EW17: DNP | EX17: 1 | EY17: DNP | EZ17: DNP | FA17: DNP | FB17: 1 | FC17: 1 | FD17: 1 | FE17: 1 | FF17: 1 | FG17: 1 | FH17: 1 | FI17: DNP | FJ17: 1 | FK17: 1 | FL17: 1 | FM17: 1 | FN17: 1 | FO17: DNP | FP17: 1 | FQ17: 1 | FR17: 1 | FS17: 1 | FT17: 1 | FU17: 1 | FV17: DNP | FW17: 1 | FX17: 1 | FY17: 1 | FZ17: DNP | GA17: 1 | GB17: 1 | GC17: 1 | GD17: 1 | GE17: 1 | GF17: 1 | GG17: 1 | GH17: 1 | GI17: 1 | GJ17: 1 | GK17: 1 | GL17: 1 | GM17: 1 | GN17: 1 | GO17: 1 | GP17: 1 | GQ17: 1 | GR17: 1 | GS17: 1 | GT17: 1 | GU17: 1 | GV17: DNP | GW17: 1 | GX17: DNP | GY17: 1 | GZ17: 1 | HA17: 1 | HB17: 1 | HC17: 1 | HD17: 1 | HE17: 1 | HF17: 1 | HG17: 1 | HH17: 1 | HI17: 1 | HJ17: 1 | HP17: =SUM(B17:HO17) -> 116
A18: NICK HYNDES | B18: DNP | C18: DNP | D18: DNP | E18: DNP | F18: DNP | G18: DNP | H18: 1 | I18: 1 | J18: 1 | K18: 1 | L18: 1 | M18: 1 | N18: 1 | O18: 1 | P18: 1 | Q18: 1 | R18: 1 | S18: DNP | T18: 1 | U18: 1 | V18: 1 | W18: 1 | X18: 1 | Y18: DNP | Z18: DNP | AA18: 1 | AB18: 1 | AC18: 1 | AD18: 1 | AE18: 1 | AF18: 1 | AG18: DNP | AH18: DNP | AI18: 1 | AJ18: 1 | AK18: 1 | AL18: 1 | AM18: 1 | AN18: 1 | AO18: 1 | AP18: 1 | AQ18: 1 | AR18: 1 | AS18: 1 | AT18: DNP | AU18: 1 | AV18: 1 | AW18: 1 | AX18: 1 | AY18: 1 | AZ18: 1 | BA18: 1 | BB18: 1 | BC18: 1 | BD18: 1 | BE18: 1 | BF18: 1 | BG18: 1 | BH18: 1 | BI18: 1 | BJ18: 1 | BK18: 1 | BL18: 1 | BM18: 1 | BN18: 1 | BO18: 1 | BP18: 1 | BQ18: 1 | BR18: 1 | BS18: DNP | BT18: 1 | BU18: 1 | BV18: 1 | BW18: 1 | BX18: 1 | BY18: 1 | BZ18: DNP | CA18: 1 | CB18: 1 | CC18: 1 | CD18: 1 | CE18: 1 | CF18: 1 | CG18: 1 | CH18: 1 | CI18: 1 | CJ18: 1 | CK18: 1 | CL18: 1 | CM18: 1 | CN18: 1 | CO18: 1 | CP18: 1 | CQ18: 1 | CR18: 1 | CS18: DNP | CT18: 1 | CV18: 1 | CW18: DNP | CX18: 1 | CY18: 1 | CZ18: 1 | DA18: 1 | DB18: DNP | DC18: 1 | DD18: 1 | DE18: 1 | DF18: 1 | DG18: 1 | DH18: 1 | DI18: DNP | DJ18: 1 | DK18: 1 | DL18: 1 | DM18: 1 | DN18: 1 | DO18: 1 | DP18: 1 | DQ18: 1 | DR18: 1 | DS18: 1 | DT18: 1 | DU18: 1 | DV18: 1 | DW18: DNP | DX18: DNP | DY18: 1 | DZ18: 1 | EA18: 1 | EB18: 1 | EC18: 1 | ED18: 1 | EE18: 1 | EF18: 1 | EG18: 1 | EH18: DNP | EI18: 1 | EJ18: 1 | EK18: 1 | EL18: DNP | EM18: 1 | EN18: 1 | EO18: 1 | EP18: DNP | EQ18: 1 | ER18: 1 | ES18: 1 | ET18: 1 | EU18: DNP | EV18: 1 | EW18: DNP | EX18: 1 | EY18: DNP | EZ18: DNP | FA18: DNP | FB18: 1 | FC18: 1 | FD18: 1 | FE18: 1 | FF18: 1 | FG18: 1 | FH18: 1 | FI18: 1 | FJ18: 1 | FK18: 1 | FL18: 1 | FM18: 1 | FN18: 1 | FO18: 1 | FP18: 1 | FQ18: 1 | FR18: 1 | FS18: DNP | FT18: 1 | FU18: 1 | FV18: DNP | FW18: DNP | FX18: 1 | FY18: 1 | FZ18: 1 | GA18: 1 | GB18: 1 | GC18: 1 | GD18: 1 | GE18: 1 | GF18: 1 | GG18: 1 | GH18: 1 | GI18: 1 | GJ18: 1 | GK18: 1 | GL18: 1 | GM18: 1 | GN18: 1 | GO18: 1 | GP18: 1 | GQ18: 1 | GR18: 1 | GS18: 1 | GT18: 1 | GU18: 1 | GV18: 1 | GW18: 1 | GX18: 1 | GY18: 1 | GZ18: 1 | HA18: 1 | HB18: 1 | HC18: 1 | HD18: 1 | HE18: 1 | HF18: 1 | HG18: 1 | HH18: 1 | HI18: 1 | HJ18: 1 | HP18: =SUM(B18:HO18) -> 185
A19: DARREN KELLY | B19: 1 | C19: 1 | D19: 1 | E19: 1 | F19: 1 | G19: 1 | H19: DNP | I19: 1 | J19: DNP | K19: 1 | L19: 1 | M19: 1 | N19: 1 | O19: 1 | P19: 1 | Q19: 1 | R19: 1 | S19: 1 | T19: 1 | U19: 1 | V19: 1 | W19: 1 | X19: 1 | Y19: 1 | Z19: 1 | AA19: 1 | AB19: 1 | AC19: 1 | AD19: 1 | AE19: 1 | AF19: 1 | AG19: 1 | AH19: 1 | AI19: 1 | AJ19: DNP | AK19: 1 | AL19: 1 | AM19: 1 | AN19: 1 | AO19: 1 | AP19: 1 | AQ19: 1 | AR19: 1 | AS19: 1 | AT19: 1 | AU19: 1 | AV19: 1 | AW19: 1 | AX19: DNP | AY19: 1 | AZ19: 1 | BA19: 1 | BB19: 1 | BC19: 1 | BD19: 1 | BE19: 1 | BF19: 1 | BG19: 1 | BH19: 1 | BI19: 1 | BJ19: 1 | BK19: 1 | BL19: 1 | BM19: 1 | BN19: 1 | BO19: 1 | BP19: 1 | BQ19: 1 | BR19: 1 | BS19: 1 | BT19: 1 | BU19: 1 | BV19: 1 | BW19: 1 | BX19: 1 | BY19: 1 | BZ19: 1 | CA19: 1 | CB19: 1 | CC19: 1 | CD19: 1 | CE19: 1 | CF19: 1 | CG19: 1 | CH19: DNP | CI19: 1 | CJ19: 1 | CK19: 1 | CL19: 1 | CM19: 1 | CN19: 1 | CO19: 1 | CP19: 1 | CQ19: 1 | CR19: 1 | CS19: DNP | CT19: 1 | CV19: 1 | CW19: 1 | CX19: 1 | CY19: DNP | CZ19: 1 | DA19: DNP | DB19: 1 | DC19: 1 | DD19: 1 | DE19: 1 | DF19: 1 | DG19: 1 | DH19: 1 | DI19: 1 | DJ19: 1 | DK19: 1 | DL19: 1 | DM19: 1 | DN19: DNP | DO19: 1 | DP19: 1 | DQ19: 1 | DR19: 1 | DS19: 1 | DT19: 1 | DU19: 1 | DV19: 1 | DW19: 1 | DX19: 1 | DY19: 1 | DZ19: 1 | EA19: 1 | EB19: 1 | EC19: 1 | ED19: 1 | EE19: 1 | EF19: 1 | EG19: 1 | EH19: DNP | EI19: 1 | EJ19: 1 | EK19: 1 | EL19: 1 | EM19: 1 | EN19: 1 | EO19: 1 | EP19: 1 | EQ19: 1 | ER19: 1 | ES19: 1 | ET19: 1 | EU19: 1 | EV19: 1 | EW19: DNP | EX19: 1 | EY19: DNP | EZ19: DNP | FA19: DNP | FB19: 1 | FC19: 1 | FD19: 1 | FE19: 1 | FF19: DNP | FG19: 1 | FH19: 1 | FI19: DNP | FJ19: 1 | FK19: 1 | FL19: DNP | FM19: DNP | FN19: 1 | FO19: 1 | FP19: 1 | FQ19: 1 | FR19: 1 | FS19: 1 | FT19: 1 | FU19: 1 | FV19: 1 | FW19: 1 | FX19: 1 | FY19: 1 | FZ19: 1 | GA19: 1 | GB19: 1 | GC19: 1 | GD19: DNP | GE19: 1 | GF19: DNP | GG19: 1 | GH19: 1 | GI19: 1 | GJ19: DNP | GK19: DNP | GL19: 1 | GM19: 1 | GN19: 1 | GO19: 1 | GP19: 1 | GQ19: 1 | GR19: 1 | GS19: 1 | GT19: 1 | GU19: 1 | GV19: 1 | GW19: 1 | GX19: 1 | GY19: 1 | GZ19: 1 | HA19: 1 | HB19: 1 | HC19: 1 | HD19: 1 | HE19: DNP | HF19: 1 | HG19: 1 | HH19: 1 | HI19: 1 | HJ19: 1 | HP19: =SUM(B19:HO19) -> 193
A20: BRETT LAFRANCHI | B20: 1 | C20: 1 | D20: DNP | E20: 1 | F20: 1 | G20: 1 | H20: 1 | I20: 1 | J20: 1 | K20: 1 | L20: 1 | M20: 1 | N20: 1 | O20: 1 | P20: 1 | Q20: 1 | R20: 1 | S20: 1 | T20: 1 | U20: 1 | V20: 1 | W20: 1 | X20: 1 | Y20: 1 | Z20: 1 | AA20: DNP | AB20: 1 | AC20: 1 | AD20: DNP | AE20: 1 | AF20: 1 | AG20: 1 | AH20: 1 | AI20: 1 | AJ20: 1 | AK20: 1 | AL20: 1 | AM20: 1 | AN20: 1 | AO20: DNP | AP20: 1 | AQ20: 1 | AR20: 1 | AS20: 1 | AT20: 1 | AU20: 1 | AV20: 1 | AW20: 1 | AX20: DNP | AY20: 1 | AZ20: 1 | BA20: DNP | BB20: DNP | BC20: 1 | BD20: 1 | BE20: 1 | BF20: 1 | BG20: 1 | BH20: 1 | BI20: 1 | BJ20: 1 | BK20: 1 | BL20: 1 | BM20: 1 | BN20: 1 | BO20: DNP | BP20: 1 | BQ20: 1 | BR20: 1 | BS20: 1 | BT20: 1 | BU20: 1 | BV20: 1 | BW20: 1 | BX20: 1 | BY20: 1 | BZ20: 1 | CA20: 1 | CB20: 1 | CC20: 1 | CD20: 1 | CE20: 1 | CF20: 1 | CG20: 1 | CH20: 1 | CI20: 1 | CJ20: 1 | CK20: 1 | CL20: 1 | CM20: 1 | CN20: 1 | CO20: 1 | CP20: 1 | CQ20: 1 | CR20: 1 | CS20: DNP | CT20: 1 | CV20: 1 | CW20: 1 | CX20: 1 | CY20: 1 | CZ20: 1 | DA20: 1 | DB20: 1 | DC20: 1 | DD20: 1 | DE20: 1 | DF20: 1 | DG20: 1 | DH20: 1 | DI20: 1 | DJ20: DNP | DK20: DNP | DL20: 1 | DM20: 1 | DN20: 1 | DO20: 1 | DP20: 1 | DQ20: 1 | DR20: 1 | DS20: 1 | DT20: DNP | DU20: DNP | DV20: 1 | DW20: 1 | DX20: DNP | DY20: DNP | DZ20: 1 | EA20: 1 | EB20: 1 | EC20: 1 | ED20: 1 | EE20: 1 | EF20: 1 | EG20: 1 | EH20: DNP | EI20: DNP | EJ20: DNP | EK20: DNP | EL20: DNP | EM20: DNP | EN20: DNP | EO20: DNP | EP20: 1 | EQ20: 1 | ER20: 1 | ES20: DNP | ET20: 1 | EU20: 1 | EV20: DNP | EW20: DNP | EX20: DNP | EY20: DNP | EZ20: DNP | FA20: DNP | FB20: 1 | FC20: 1 | FD20: 1 | FE20: 1 | FF20: 1 | FG20: DNP | FH20: 1 | FI20: DNP | FJ20: DNP | FK20: 1 | FL20: DNP | FM20: DNP | FN20: 1 | FO20: 1 | FP20: 1 | FQ20: 1 | FR20: 1 | FS20: 1 | FT20: 1 | FU20: DNP | FV20: DNP | FW20: 1 | FX20: DNP | FY20: 1 | FZ20: DNP | GA20: DNP | GB20: 1 | GC20: 1 | GD20: 1 | GE20: DNP | GF20: DNP | GG20: DNP | GH20: 1 | GI20: 1 | GJ20: DNP | GK20: DNP | GL20: DNP | GM20: 1 | GN20: 1 | GO20: 1 | GP20: 1 | GQ20: 1 | GR20: 1 | GS20: 1 | GT20: DNP | GU20: DNP | GV20: 1 | GW20: 1 | GX20: 1 | GY20: 1 | GZ20: 1 | HA20: DNP | HB20: 1 | HC20: 1 | HD20: 1 | HE20: 1 | HF20: 1 | HG20: DNP | HH20: 1 | HI20: 1 | HJ20: 1 | HP20: =SUM(B20:HO20) -> 166
A21: ROB LIVINGSTON | B21: 1 | C21: 1 | D21: 1 | E21: 1 | F21: 1 | G21: 1 | H21: 1 | I21: 1 | J21: 1 | K21: 1 | L21: 1 | M21: 1 | N21: 1 | O21: 1 | P21: 1 | Q21: 1 | R21: 1 | S21: 1 | T21: 1 | U21: 1 | V21: 1 | W21: 1 | X21: 1 | Y21: 1 | Z21: 1 | AA21: 1 | AB21: 1 | AC21: 1 | AD21: 1 | AE21: 1 | AF21: 1 | AG21: 1 | AH21: 1 | AI21: 1 | AJ21: 1 | AK21: 1 | AL21: 1 | AM21: 1 | AN21: 1 | AO21: 1 | AP21: DNP | AQ21: 1 | AR21: 1 | AS21: 1 | AT21: 1 | AU21: 1 | AV21: 1 | AW21: 1 | AX21: 1 | AY21: 1 | AZ21: 1 | BA21: 1 | BB21: 1 | BC21: 1 | BD21: 1 | BE21: 1 | BF21: 1 | BG21: 1 | BH21: 1 | BI21: 1 | BJ21: 1 | BK21: 1 | BL21: 1 | BM21: 1 | BN21: 1 | BO21: 1 | BP21: 1 | BQ21: 1 | BR21: 1 | BS21: 1 | BT21: 1 | BU21: 1 | BV21: 1 | BW21: 1 | BX21: 1 | BY21: 1 | BZ21: 1 | CA21: 1 | CB21: 1 | CC21: 1 | CD21: 1 | CE21: 1 | CF21: 1 | CG21: 1 | CH21: 1 | CI21: 1 | CJ21: 1 | CK21: 1 | CL21: DNP | CM21: 1 | CN21: DNP | CO21: 1 | CP21: 1 | CQ21: 1 | CR21: 1 | CS21: DNP | CT21: 1 | CV21: 1 | CW21: 1 | CX21: 1 | CY21: 1 | CZ21: 1 | DA21: 1 | DB21: 1 | DC21: 1 | DD21: 1 | DE21: 1 | DF21: 1 | DG21: 1 | DH21: 1 | DI21: 1 | DJ21: 1 | DK21: 1 | DL21: 1 | DM21: 1 | DN21: 1 | DO21: 1 | DP21: 1 | DQ21: 1 | DR21: 1 | DS21: 1 | DT21: 1 | DU21: 1 | DV21: 1 | DW21: 1 | DX21: DNP | DY21: 1 | DZ21: 1 | EA21: 1 | EB21: 1 | EC21: 1 | ED21: 1 | EE21: 1 | EF21: 1 | EG21: DNP | EH21: 1 | EI21: 1 | EJ21: 1 | EK21: 1 | EL21: 1 | EM21: 1 | EN21: 1 | EO21: 1 | EP21: 1 | EQ21: 1 | ER21: 1 | ES21: 1 | ET21: 1 | EU21: 1 | EV21: 1 | EW21: DNP | EX21: 1 | EY21: DNP | EZ21: DNP | FA21: DNP | FB21: 1 | FC21: 1 | FD21: 1 | FE21: 1 | FF21: 1 | FG21: DNP | FH21: 1 | FI21: 1 | FJ21: DNP | FK21: 1 | FL21: DNP | FM21: 1 | FN21: 1 | FO21: 1 | FP21: 1 | FQ21: 1 | FR21: DNP | FS21: 1 | FT21: DNP | FU21: 1 | FV21: DNP | FW21: 1 | FX21: 1 | FY21: DNP | FZ21: 1 | GA21: 1 | GB21: 1 | GC21: 1 | GD21: 1 | GE21: 1 | GF21: DNP | GG21: 1 | GH21: 1 | GI21: 1 | GJ21: 1 | GK21: 1 | GL21: DNP | GM21: 1 | GN21: 1 | GO21: 1 | GP21: 1 | GQ21: 1 | GR21: 1 | GS21: 1 | GT21: DNP | GU21: 1 | GV21: 1 | GW21: DNP | GX21: 1 | GY21: 1 | GZ21: 1 | HA21: DNP | HB21: 1 | HC21: 1 | HD21: 1 | HE21: DNP | HF21: DNP | HG21: 1 | HH21: 1 | HI21: 1 | HJ21: 1 | HP21: =SUM(B21:HO21) -> 192
A22: BOB LORD | B22: DNP | C22: DNP | D22: DNP | E22: DNP | F22: DNP | G22: DNP | H22: 1 | I22: 1 | J22: 1 | K22: 1 | L22: 1 | M22: 1 | N22: 1 | O22: 1 | P22: 1 | Q22: 1 | R22: 1 | S22: 1 | T22: 1 | U22: 1 | V22: DNP | W22: 1 | X22: 1 | Y22: DNP | Z22: 1 | AA22: 1 | AB22: DNP | AC22: 1 | AD22: 1 | AE22: 1 | AF22: 1 | AG22: 1 | AH22: 1 | AI22: 1 | AJ22: 1 | AK22: 1 | AL22: 1 | AM22: 1 | AN22: 1 | AO22: 1 | AP22: 1 | AQ22: 1 | AR22: 1 | AS22: 1 | AT22: 1 | AU22: 1 | AV22: 1 | AW22: 1 | AX22: 1 | AY22: 1 | AZ22: DNP | BA22: 1 | BB22: 1 | BC22: 1 | BD22: 1 | BE22: 1 | BF22: 1 | BG22: 1 | BH22: DNP | BI22: 1 | BJ22: 1 | BK22: 1 | BL22: 1 | BM22: 1 | BN22: 1 | BO22: DNP | BP22: DNP | BQ22: 1 | BR22: 1 | BS22: 1 | BT22: 1 | BU22: 1 | BV22: 1 | BW22: 1 | BX22: 1 | BY22: 1 | BZ22: DNP | CA22: 1 | CB22: 1 | CC22: DNP | CD22: 1 | CE22: 1 | CF22: 1 | CG22: DNP | CH22: DNP | CI22: 1 | CJ22: 1 | CK22: DNP | CL22: DNP | CM22: DNP | CN22: 1 | CO22: 1 | CP22: 1 | CQ22: 1 | CR22: 1 | CS22: DNP | CT22: 1 | CV22: 1 | CW22: 1 | CX22: 1 | CY22: 1 | CZ22: 1 | DA22: 1 | DB22: 1 | DC22: 1 | DD22: 1 | DE22: DNP | DF22: 1 | DG22: 1 | DH22: DNP | DI22: 1 | DJ22: 1 | DK22: 1 | DL22: 1 | DM22: DNP | DN22: 1 | DO22: 1 | DP22: 1 | DQ22: DNP | DR22: DNP | DS22: DNP | DT22: DNP | DU22: 1 | DV22: DNP | DW22: 1 | DX22: 1 | DY22: 1 | DZ22: 1 | EA22: 1 | EB22: DNP | EC22: 1 | ED22: 1 | EE22: 1 | EF22: DNP | EG22: DNP | EH22: DNP | EI22: DNP | EJ22: DNP | EK22: DNP | EL22: DNP | EM22: DNP | EN22: DNP | EO22: DNP | EP22: DNP | EQ22: DNP | ER22: DNP | ES22: DNP | ET22: DNP | EU22: DNP | EV22: 1 | EW22: DNP | EX22: DNP | EY22: DNP | EZ22: DNP | FA22: DNP | FB22: DNP | FC22: DNP | FD22: DNP | FE22: DNP | FF22: DNP | FG22: DNP | FH22: DNP | FI22: DNP | FJ22: DNP | FK22: DNP | FL22: DNP | FM22: DNP | FN22: DNP | FO22: DNP | FP22: DNP | FQ22: DNP | FR22: DNP | FS22: DNP | FT22: DNP | FU22: DNP | FV22: DNP | FW22: DNP | FX22: DNP | FY22: DNP | FZ22: DNP | GA22: DNP | GB22: DNP | GC22: DNP | GD22: DNP | GE22: DNP | GF22: DNP | GG22: DNP | GH22: DNP | GI22: DNP | GJ22: DNP | GK22: DNP | GL22: DNP | GM22: DNP | GN22: 1 | GO22: 1 | GP22: DNP | GQ22: DNP | GR22: DNP | GS22: 1 | GT22: 1 | GU22: DNP | GV22: 1 | GW22: DNP | GX22: 1 | GY22: DNP | GZ22: DNP | HA22: DNP | HB22: 1 | HC22: 1 | HD22: DNP | HE22: 1 | HF22: DNP | HG22: 1 | HH22: DNP | HI22: DNP | HJ22: DNP | HP22: =SUM(B22:HO22) -> 114
A23: RANDALL MAHOMET | B23: DNP | C23: DNP | D23: DNP | E23: DNP | F23: DNP | G23: DNP | H23: DNP | I23: DNP | J23: DNP | K23: DNP | L23: DNP | M23: DNP | N23: DNP | O23: DNP | P23: DNP | Q23: DNP | R23: DNP | S23: DNP | T23: DNP | U23: DNP | V23: DNP | W23: DNP | X23: DNP | Y23: DNP | Z23: DNP | AA23: DNP | AB23: DNP | AC23: DNP | AD23: DNP | AE23: DNP | AF23: DNP | AG23: DNP | AH23: DNP | AI23: DNP | AJ23: DNP | AK23: DNP | AL23: DNP | AM23: DNP | AN23: DNP | AO23: DNP | AP23: DNP | AQ23: DNP | AR23: DNP | AS23: DNP | AT23: DNP | AU23: DNP | AV23: DNP | AW23: DNP | AX23: DNP | AY23: DNP | AZ23: DNP | BA23: DNP | BB23: DNP | BC23: DNP | BD23: DNP | BE23: DNP | BF23: DNP | BG23: DNP | BH23: DNP | BI23: DNP | BJ23: DNP | BK23: DNP | BL23: DNP | BM23: DNP | BN23: DNP | BO23: DNP | BP23: DNP | BQ23: DNP | BR23: DNP | BS23: DNP | BT23: DNP | BU23: DNP | BV23: DNP | BW23: DNP | BX23: DNP | BY23: 1 | BZ23: 1 | CA23: 1 | CB23: DNP | CC23: DNP | CD23: 1 | CE23: 1 | CF23: DNP | CG23: 1 | CH23: 1 | CI23: 1 | CJ23: 1 | CK23: 1 | CL23: DNP | CM23: 1 | CN23: DNP | CO23: DNP | CP23: DNP | CQ23: 1 | CR23: 1 | CS23: DNP | CT23: DNP | CV23: 1 | CW23: 1 | CX23: DNP | CY23: DNP | CZ23: DNP | DA23: 1 | DB23: DNP | DC23: DNP | DD23: 1 | DE23: DNP | DF23: 1 | DG23: 1 | DH23: 1 | DI23: 1 | DJ23: 1 | DK23: DNP | DL23: 1 | DM23: DNP | DN23: 1 | DO23: 1 | DP23: DNP | DQ23: 1 | DR23: 1 | DS23: 1 | DT23: DNP | DU23: DNP | DV23: 1 | DW23: DNP | DX23: DNP | DY23: 1 | DZ23: 1 | EA23: DNP | EB23: 1 | EC23: 1 | ED23: 1 | EE23: 1 | EF23: DNP | EG23: DNP | EH23: 1 | EI23: 1 | EJ23: 1 | EK23: 1 | EL23: 1 | EM23: DNP | EN23: DNP | EO23: 1 | EP23: 1 | EQ23: 1 | ER23: DNP | ES23: DNP | ET23: DNP | EU23: DNP | EV23: DNP | EW23: DNP | EX23: 1 | EY23: DNP | EZ23: DNP | FA23: DNP | FB23: 1 | FC23: 1 | FD23: DNP | FE23: DNP | FF23: 1 | FG23: DNP | FH23: DNP | FI23: 1 | FJ23: 1 | FK23: DNP | FL23: 1 | FM23: 1 | FN23: 1 | FO23: 1 | FP23: 1 | FQ23: 1 | FR23: 1 | FS23: DNP | FT23: DNP | FU23: DNP | FV23: 1 | FW23: 1 | FX23: 1 | FY23: 1 | FZ23: DNP | GA23: 1 | GB23: 1 | GC23: 1 | GD23: 1 | GE23: 1 | GF23: DNP | GG23: DNP | GH23: DNP | GI23: DNP | GJ23: DNP | GK23: 1 | GL23: 1 | GM23: 1 | GN23: 1 | GO23: 1 | GP23: DNP | GQ23: 1 | GR23: DNP | GS23: DNP | GT23: DNP | GU23: DNP | GV23: DNP | GW23: DNP | GX23: 1 | GY23: 1 | GZ23: 1 | HA23: 1 | HB23: 1 | HC23: 1 | HD23: DNP | HE23: DNP | HF23: 1 | HG23: 1 | HH23: DNP | HI23: DNP | HJ23: 1 | HP23: =SUM(B23:HO23) -> 80
A24: ANTHONY MITCHELL | B24: 1 | C24: 1 | D24: 1 | E24: 1 | F24: 1 | G24: 1 | H24: 1 | I24: 1 | J24: 1 | K24: 1 | L24: 1 | M24: 1 | N24: DNP | O24: 1 | P24: 1 | Q24: 1 | R24: 1 | S24: 1 | T24: DNP | U24: 1 | V24: 1 | W24: 1 | X24: 1 | Y24: DNP | Z24: 1 | AA24: 1 | AB24: 1 | AC24: DNP | AD24: 1 | AE24: 1 | AF24: 1 | AG24: 1 | AH24: 1 | AI24: 1 | AJ24: DNP | AK24: 1 | AL24: 1 | AM24: 1 | AN24: 1 | AO24: 1 | AP24: DNP | AQ24: 1 | AR24: 1 | AS24: 1 | AT24: 1 | AU24: 1 | AV24: 1 | AW24: 1 | AX24: 1 | AY24: 1 | AZ24: 1 | BA24: 1 | BB24: 1 | BC24: 1 | BD24: 1 | BE24: 1 | BF24: 1 | BG24: 1 | BH24: 1 | BI24: 1 | BJ24: 1 | BK24: 1 | BL24: 1 | BM24: 1 | BN24: 1 | BO24: 1 | BP24: 1 | BQ24: DNP | BR24: 1 | BS24: 1 | BT24: DNP | BU24: 1 | BV24: 1 | BW24: 1 | BX24: 1 | BY24: 1 | BZ24: 1 | CA24: 1 | CB24: 1 | CC24: 1 | CD24: 1 | CE24: 1 | CF24: 1 | CG24: 1 | CH24: 1 | CI24: 1 | CJ24: 1 | CK24: 1 | CL24: 1 | CM24: 1 | CN24: 1 | CO24: 1 | CP24: DNP | CQ24: 1 | CR24: 1 | CS24: DNP | CT24: 1 | CV24: 1 | CW24: 1 | CX24: 1 | CY24: 1 | CZ24: 1 | DA24: 1 | DB24: DNP | DC24: 1 | DD24: 1 | DE24: 1 | DF24: 1 | DG24: 1 | DH24: 1 | DI24: 1 | DJ24: 1 | DK24: DNP | DL24: 1 | DM24: DNP | DN24: 1 | DO24: 1 | DP24: 1 | DQ24: 1 | DR24: 1 | DS24: 1 | DT24: 1 | DU24: 1 | DV24: DNP | DW24: 1 | DX24: 1 | DY24: 1 | DZ24: 1 | EA24: DNP | EB24: 1 | EC24: 1 | ED24: 1 | EE24: 1 | EF24: 1 | EG24: 1 | EH24: 1 | EI24: 1 | EJ24: DNP | EK24: 1 | EL24: 1 | EM24: 1 | EN24: 1 | EO24: 1 | EP24: 1 | EQ24: 1 | ER24: 1 | ES24: 1 | ET24: 1 | EU24: 1 | EV24: 1 | EW24: DNP | EX24: DNP | EY24: DNP | EZ24: DNP | FA24: DNP | FB24: 1 | FC24: 1 | FD24: 1 | FE24: 1 | FF24: 1 | FG24: 1 | FH24: 1 | FI24: DNP | FJ24: DNP | FK24: 1 | FL24: 1 | FM24: 1 | FN24: 1 | FO24: 1 | FP24: 1 | FQ24: 1 | FR24: 1 | FS24: 1 | FT24: 1 | FU24: DNP | FV24: 1 | FW24: 1 | FX24: 1 | FY24: 1 | FZ24: 1 | GA24: 1 | GB24: 1 | GC24: 1 | GD24: 1 | GE24: 1 | GF24: 1 | GG24: 1 | GH24: 1 | GI24: DNP | GJ24: 1 | GK24: 1 | GL24: 1 | GM24: 1 | GN24: 1 | GO24: 1 | GP24: 1 | GQ24: DNP | GR24: 1 | GS24: 1 | GT24: DNP | GU24: 1 | GV24: DNP | GW24: 1 | GX24: 1 | GY24: DNP | GZ24: DNP | HA24: 1 | HB24: 1 | HC24: 1 | HD24: DNP | HE24: 1 | HF24: 1 | HG24: 1 | HH24: 1 | HI24: DNP | HJ24: 1 | HP24: =SUM(B24:HO24) -> 184
A25: PAUL NAGY | B25: DNP | C25: 1 | D25: 1 | E25: 1 | F25: 1 | G25: 1 | H25: DNP | I25: DNP | J25: DNP | K25: 1 | L25: 1 | M25: 1 | N25: DNP | O25: 1 | P25: 1 | Q25: DNP | R25: DNP | S25: 1 | T25: 1 | U25: 1 | V25: 1 | W25: 1 | X25: 1 | Y25: 1 | Z25: DNP | AA25: 1 | AB25: DNP | AC25: 1 | AD25: 1 | AE25: DNP | AF25: 1 | AG25: 1 | AH25: 1 | AI25: DNP | AJ25: 1 | AK25: DNP | AL25: 1 | AM25: DNP | AN25: 1 | AO25: 1 | AP25: DNP | AQ25: 1 | AR25: 1 | AS25: 1 | AT25: DNP | AU25: DNP | AV25: DNP | AW25: DNP | AX25: 1 | AY25: 1 | AZ25: 1 | BA25: 1 | BB25: 1 | BC25: 1 | BD25: 1 | BE25: 1 | BF25: DNP | BG25: DNP | BH25: DNP | BI25: DNP | BJ25: 1 | BK25: 1 | BL25: 1 | BM25: 1 | BN25: 1 | BO25: 1 | BP25: DNP | BQ25: 1 | BR25: DNP | BS25: DNP | BT25: 1 | BU25: 1 | BV25: 1 | BW25: 1 | BX25: 1 | BY25: 1 | BZ25: 1 | CA25: DNP | CB25: DNP | CC25: 1 | CD25: 1 | CE25: DNP | CF25: 1 | CG25: DNP | CH25: DNP | CI25: 1 | CJ25: 1 | CK25: 1 | CL25: DNP | CM25: DNP | CN25: DNP | CO25: 1 | CP25: 1 | CQ25: 1 | CR25: 1 | CS25: DNP | CT25: 1 | CV25: 1 | CW25: 1 | CX25: DNP | CY25: DNP | CZ25: DNP | DA25: DNP | DB25: 1 | DC25: DNP | DD25: 1 | DE25: DNP | DF25: 1 | DG25: 1 | DH25: 1 | DI25: 1 | DJ25: 1 | DK25: 1 | DL25: 1 | DM25: 1 | DN25: DNP | DO25: 1 | DP25: 1 | DQ25: 1 | DR25: 1 | DS25: 1 | DT25: 1 | DU25: 1 | DV25: 1 | DW25: 1 | DX25: 1 | DY25: 1 | DZ25: DNP | EA25: DNP | EB25: DNP | EC25: DNP | ED25: 1 | EE25: 1 | EF25: 1 | EG25: DNP | EH25: 1 | EI25: DNP | EJ25: 1 | EK25: DNP | EL25: 1 | EM25: 1 | EN25: 1 | EO25: 1 | EP25: 1 | EQ25: 1 | ER25: 1 | ES25: 1 | ET25: 1 | EU25: 1 | EV25: 1 | EW25: DNP | EX25: 1 | EY25: DNP | EZ25: DNP | FA25: DNP | FB25: 1 | FC25: 1 | FD25: 1 | FE25: 1 | FF25: 1 | FG25: DNP | FH25: 1 | FI25: DNP | FJ25: DNP | FK25: DNP | FL25: DNP | FM25: 1 | FN25: 1 | FO25: DNP | FP25: 1 | FQ25: 1 | FR25: 1 | FS25: DNP | FT25: DNP | FU25: 1 | FV25: 1 | FW25: DNP | FX25: DNP | FY25: 1 | FZ25: DNP | GA25: 1 | GB25: 1 | GC25: 1 | GD25: dnp | GE25: DNP | GF25: DNP | GG25: DNP | GH25: DNP | GI25: DNP | GJ25: DNP | GK25: 1 | GL25: 1 | GM25: DNP | GN25: 1 | GO25: 1 | GP25: 1 | GQ25: DNP | GR25: 1 | GS25: 1 | GT25: DNP | GU25: DNP | GV25: 1 | GW25: DNP | GX25: DNP | GY25: DNP | GZ25: DNP | HA25: DNP | HB25: 1 | HC25: 1 | HD25: DNP | HE25: 1 | HF25: DNP | HG25: DNP | HH25: 1 | HI25: DNP | HJ25: DNP | HP25: =SUM(B25:HO25) -> 132
A26: PAT PARNIS | B26: 1 | C26: 1 | D26: 1 | E26: 1 | F26: 1 | G26: DNP | H26: DNP | I26: 1 | J26: 1 | K26: 1 | L26: 1 | M26: DNP | N26: 1 | O26: 1 | P26: 1 | Q26: DNP | R26: 1 | S26: DNP | T26: DNP | U26: 1 | V26: 1 | W26: 1 | X26: DNP | Y26: 1 | Z26: DNP | AA26: DNP | AB26: DNP | AC26: 1 | AD26: 1 | AE26: 1 | AF26: DNP | AG26: DNP | AH26: DNP | AI26: 1 | AJ26: 1 | AK26: 1 | AL26: 1 | AM26: 1 | AN26: DNP | AO26: 1 | AP26: DNP | AQ26: 1 | AR26: 1 | AS26: DNP | AT26: 1 | AU26: DNP | AV26: DNP | AW26: 1 | AX26: 1 | AY26: 1 | AZ26: 1 | BA26: 1 | BB26: 1 | BC26: DNP | BD26: DNP | BE26: DNP | BF26: 1 | BG26: 1 | BH26: 1 | BI26: 1 | BJ26: 1 | BK26: DNP | BL26: 1 | BM26: 1 | BN26: DNP | BO26: 1 | BP26: 1 | BQ26: DNP | BR26: DNP | BS26: 1 | BT26: DNP | BU26: DNP | BV26: DNP | BW26: 1 | BX26: 1 | BY26: 1 | BZ26: DNP | CA26: 1 | CB26: DNP | CC26: 1 | CD26: 1 | CE26: DNP | CF26: 1 | CG26: 1 | CH26: DNP | CI26: 1 | CJ26: 1 | CK26: 1 | CL26: DNP | CM26: DNP | CN26: 1 | CO26: DNP | CP26: DNP | CQ26: 1 | CR26: 1 | CS26: DNP | CT26: 1 | CV26: 1 | CW26: 1 | CX26: DNP | CY26: 1 | CZ26: 1 | DA26: DNP | DB26: 1 | DC26: 1 | DD26: 1 | DE26: DNP | DF26: 1 | DG26: 1 | DH26: 1 | DI26: 1 | DJ26: DNP | DK26: DNP | DL26: 1 | DM26: 1 | DN26: 1 | DO26: 1 | DP26: 1 | DQ26: 1 | DR26: 1 | DS26: 1 | DT26: 1 | DU26: 1 | DV26: 1 | DW26: 1 | DX26: 1 | DY26: 1 | DZ26: DNP | EA26: DNP | EB26: 1 | EC26: 1 | ED26: 1 | EE26: 1 | EF26: 1 | EG26: 1 | EH26: 1 | EI26: 1 | EJ26: 1 | EK26: 1 | EL26: 1 | EM26: 1 | EN26: 1 | EO26: 1 | EP26: 1 | EQ26: 1 | ER26: 1 | ES26: 1 | ET26: 1 | EU26: 1 | EV26: 1 | EW26: DNP | EX26: 1 | EY26: DNP | EZ26: DNP | FA26: DNP | FB26: DNP | FC26: DNP | FD26: DNP | FE26: DNP | FF26: 1 | FG26: 1 | FH26: 1 | FI26: 1 | FJ26: 1 | FK26: 1 | FL26: DNP | FM26: DNP | FN26: 1 | FO26: 1 | FP26: 1 | FQ26: 1 | FR26: 1 | FS26: 1 | FT26: 1 | FU26: 1 | FV26: 1 | FW26: DNP | FX26: DNP | FY26: DNP | FZ26: 1 | GA26: 1 | GB26: 1 | GC26: 1 | GD26: 1 | GE26: 1 | GF26: 1 | GG26: 1 | GH26: 1 | GI26: DNP | GJ26: DNP | GK26: DNP | GL26: DNP | GM26: DNP | GN26: 1 | GO26: 1 | GP26: 1 | GQ26: 1 | GR26: DNP | GS26: 1 | GT26: 1 | GU26: 1 | GV26: 1 | GW26: DNP | GX26: DNP | GY26: 1 | GZ26: 1 | HA26: DNP | HB26: 1 | HC26: 1 | HD26: 1 | HE26: 1 | HF26: DNP | HG26: 1 | HH26: 1 | HI26: 1 | HJ26: DNP | HP26: =SUM(B26:HO26) -> 148
